BEGIN:VCALENDAR
VERSION:2.0
PRODID:-//destination.one//NONSGML destination.meta API//DE
X-WR-CALDESC:A calendar powered by destination.meta
X-WR-CALNAME:dornum Kalender via destination.meta
BEGIN:VEVENT
CATEGORIES:Wattwanderung
CATEGORIES:... zu Fuß
CATEGORIES:Familien/Kinder sonstige
DESCRIPTION:\n\nmehr Informationen unter http://pages.destination.one/de/do
 rnum/streaming/detail/Event/e_100565711/r-ckwanderung-von-baltrum-nach-ne-
 mersiel-mit-wattf-hrer-johann
DTEND;TZID=Europe/Berlin:20230502T235900
DTSTAMP:20260423T104358Z
DTSTART;TZID=Europe/Berlin:20230502T150000
GEO:53.685614;7.359381
LOCATION:Wattführer Johann\, Strandstraße 1\, Dornum Neßmersiel
ORGANIZER;CN=Wattführer Johann:mailto:wattwandern@gmx.de
SEQUENCE:0
SUMMARY:Rückwanderung von Baltrum nach Neßmersiel - mit Wattführer Johann
UID:e_100565711_iv0
URL:http://pages.destination.one/de/dornum/streaming/detail/Event/e_1005657
 11/r-ckwanderung-von-baltrum-nach-ne-mersiel-mit-wattf-hrer-johann
END:VEVENT
BEGIN:VEVENT
CATEGORIES:Wattwanderung
CATEGORIES:... zu Fuß
CATEGORIES:Familien/Kinder sonstige
DESCRIPTION:\n\nmehr Informationen unter http://pages.destination.one/de/do
 rnum/streaming/detail/Event/e_100565711/r-ckwanderung-von-baltrum-nach-ne-
 mersiel-mit-wattf-hrer-johann
DTEND;TZID=Europe/Berlin:20230518T235900
DTSTAMP:20260423T104358Z
DTSTART;TZID=Europe/Berlin:20230518T160000
GEO:53.685614;7.359381
LOCATION:Wattführer Johann\, Strandstraße 1\, Dornum Neßmersiel
ORGANIZER;CN=Wattführer Johann:mailto:wattwandern@gmx.de
SEQUENCE:0
SUMMARY:Rückwanderung von Baltrum nach Neßmersiel - mit Wattführer Johann
UID:e_100565711_iv1
URL:http://pages.destination.one/de/dornum/streaming/detail/Event/e_1005657
 11/r-ckwanderung-von-baltrum-nach-ne-mersiel-mit-wattf-hrer-johann
END:VEVENT
BEGIN:VEVENT
CATEGORIES:Wattwanderung
CATEGORIES:... zu Fuß
CATEGORIES:Familien/Kinder sonstige
DESCRIPTION:\n\nmehr Informationen unter http://pages.destination.one/de/do
 rnum/streaming/detail/Event/e_100565711/r-ckwanderung-von-baltrum-nach-ne-
 mersiel-mit-wattf-hrer-johann
DTEND;TZID=Europe/Berlin:20230601T235900
DTSTAMP:20260423T104358Z
DTSTART;TZID=Europe/Berlin:20230601T150000
GEO:53.685614;7.359381
LOCATION:Wattführer Johann\, Strandstraße 1\, Dornum Neßmersiel
ORGANIZER;CN=Wattführer Johann:mailto:wattwandern@gmx.de
SEQUENCE:0
SUMMARY:Rückwanderung von Baltrum nach Neßmersiel - mit Wattführer Johann
UID:e_100565711_iv2
URL:http://pages.destination.one/de/dornum/streaming/detail/Event/e_1005657
 11/r-ckwanderung-von-baltrum-nach-ne-mersiel-mit-wattf-hrer-johann
END:VEVENT
BEGIN:VEVENT
CATEGORIES:Wattwanderung
CATEGORIES:... zu Fuß
CATEGORIES:Familien/Kinder sonstige
DESCRIPTION:\n\nmehr Informationen unter http://pages.destination.one/de/do
 rnum/streaming/detail/Event/e_100565711/r-ckwanderung-von-baltrum-nach-ne-
 mersiel-mit-wattf-hrer-johann
DTEND;TZID=Europe/Berlin:20230701T235900
DTSTAMP:20260423T104358Z
DTSTART;TZID=Europe/Berlin:20230701T150000
GEO:53.685614;7.359381
LOCATION:Wattführer Johann\, Strandstraße 1\, Dornum Neßmersiel
ORGANIZER;CN=Wattführer Johann:mailto:wattwandern@gmx.de
SEQUENCE:0
SUMMARY:Rückwanderung von Baltrum nach Neßmersiel - mit Wattführer Johann
UID:e_100565711_iv3
URL:http://pages.destination.one/de/dornum/streaming/detail/Event/e_1005657
 11/r-ckwanderung-von-baltrum-nach-ne-mersiel-mit-wattf-hrer-johann
END:VEVENT
BEGIN:VEVENT
CATEGORIES:Wattwanderung
CATEGORIES:... zu Fuß
CATEGORIES:Familien/Kinder sonstige
DESCRIPTION:\n\nmehr Informationen unter http://pages.destination.one/de/do
 rnum/streaming/detail/Event/e_100565711/r-ckwanderung-von-baltrum-nach-ne-
 mersiel-mit-wattf-hrer-johann
DTEND;TZID=Europe/Berlin:20230714T235900
DTSTAMP:20260423T104358Z
DTSTART;TZID=Europe/Berlin:20230714T143000
GEO:53.685614;7.359381
LOCATION:Wattführer Johann\, Strandstraße 1\, Dornum Neßmersiel
ORGANIZER;CN=Wattführer Johann:mailto:wattwandern@gmx.de
SEQUENCE:0
SUMMARY:Rückwanderung von Baltrum nach Neßmersiel - mit Wattführer Johann
UID:e_100565711_iv4
URL:http://pages.destination.one/de/dornum/streaming/detail/Event/e_1005657
 11/r-ckwanderung-von-baltrum-nach-ne-mersiel-mit-wattf-hrer-johann
END:VEVENT
BEGIN:VEVENT
CATEGORIES:Wattwanderung
CATEGORIES:... zu Fuß
CATEGORIES:Familien/Kinder sonstige
DESCRIPTION:\n\nmehr Informationen unter http://pages.destination.one/de/do
 rnum/streaming/detail/Event/e_100565711/r-ckwanderung-von-baltrum-nach-ne-
 mersiel-mit-wattf-hrer-johann
DTEND;TZID=Europe/Berlin:20230731T235900
DTSTAMP:20260423T104358Z
DTSTART;TZID=Europe/Berlin:20230731T154500
GEO:53.685614;7.359381
LOCATION:Wattführer Johann\, Strandstraße 1\, Dornum Neßmersiel
ORGANIZER;CN=Wattführer Johann:mailto:wattwandern@gmx.de
SEQUENCE:0
SUMMARY:Rückwanderung von Baltrum nach Neßmersiel - mit Wattführer Johann
UID:e_100565711_iv5
URL:http://pages.destination.one/de/dornum/streaming/detail/Event/e_1005657
 11/r-ckwanderung-von-baltrum-nach-ne-mersiel-mit-wattf-hrer-johann
END:VEVENT
BEGIN:VEVENT
CATEGORIES:Wattwanderung
CATEGORIES:... zu Fuß
CATEGORIES:Familien/Kinder sonstige
DESCRIPTION:\n\nmehr Informationen unter http://pages.destination.one/de/do
 rnum/streaming/detail/Event/e_100565711/r-ckwanderung-von-baltrum-nach-ne-
 mersiel-mit-wattf-hrer-johann
DTEND;TZID=Europe/Berlin:20230813T235900
DTSTAMP:20260423T104358Z
DTSTART;TZID=Europe/Berlin:20230813T150000
GEO:53.685614;7.359381
LOCATION:Wattführer Johann\, Strandstraße 1\, Dornum Neßmersiel
ORGANIZER;CN=Wattführer Johann:mailto:wattwandern@gmx.de
SEQUENCE:0
SUMMARY:Rückwanderung von Baltrum nach Neßmersiel - mit Wattführer Johann
UID:e_100565711_iv6
URL:http://pages.destination.one/de/dornum/streaming/detail/Event/e_1005657
 11/r-ckwanderung-von-baltrum-nach-ne-mersiel-mit-wattf-hrer-johann
END:VEVENT
BEGIN:VEVENT
CATEGORIES:Wattwanderung
CATEGORIES:... zu Fuß
CATEGORIES:Familien/Kinder sonstige
DESCRIPTION:\n\nmehr Informationen unter http://pages.destination.one/de/do
 rnum/streaming/detail/Event/e_100565711/r-ckwanderung-von-baltrum-nach-ne-
 mersiel-mit-wattf-hrer-johann
DTEND;TZID=Europe/Berlin:20240522T235900
DTSTAMP:20260423T104358Z
DTSTART;TZID=Europe/Berlin:20240522T161500
GEO:53.685614;7.359381
LOCATION:Wattführer Johann\, Strandstraße 1\, Dornum Neßmersiel
ORGANIZER;CN=Wattführer Johann:mailto:wattwandern@gmx.de
SEQUENCE:0
SUMMARY:Rückwanderung von Baltrum nach Neßmersiel - mit Wattführer Johann
UID:e_100565711_iv7
URL:http://pages.destination.one/de/dornum/streaming/detail/Event/e_1005657
 11/r-ckwanderung-von-baltrum-nach-ne-mersiel-mit-wattf-hrer-johann
END:VEVENT
BEGIN:VEVENT
CATEGORIES:Wattwanderung
CATEGORIES:... zu Fuß
CATEGORIES:Familien/Kinder sonstige
DESCRIPTION:\n\nmehr Informationen unter http://pages.destination.one/de/do
 rnum/streaming/detail/Event/e_100565711/r-ckwanderung-von-baltrum-nach-ne-
 mersiel-mit-wattf-hrer-johann
DTEND;TZID=Europe/Berlin:20240605T235900
DTSTAMP:20260423T104358Z
DTSTART;TZID=Europe/Berlin:20240605T160000
GEO:53.685614;7.359381
LOCATION:Wattführer Johann\, Strandstraße 1\, Dornum Neßmersiel
ORGANIZER;CN=Wattführer Johann:mailto:wattwandern@gmx.de
SEQUENCE:0
SUMMARY:Rückwanderung von Baltrum nach Neßmersiel - mit Wattführer Johann
UID:e_100565711_iv8
URL:http://pages.destination.one/de/dornum/streaming/detail/Event/e_1005657
 11/r-ckwanderung-von-baltrum-nach-ne-mersiel-mit-wattf-hrer-johann
END:VEVENT
BEGIN:VEVENT
CATEGORIES:Wattwanderung
CATEGORIES:... zu Fuß
CATEGORIES:Familien/Kinder sonstige
DESCRIPTION:\n\nmehr Informationen unter http://pages.destination.one/de/do
 rnum/streaming/detail/Event/e_100565711/r-ckwanderung-von-baltrum-nach-ne-
 mersiel-mit-wattf-hrer-johann
DTEND;TZID=Europe/Berlin:20240620T235900
DTSTAMP:20260423T104358Z
DTSTART;TZID=Europe/Berlin:20240620T154500
GEO:53.685614;7.359381
LOCATION:Wattführer Johann\, Strandstraße 1\, Dornum Neßmersiel
ORGANIZER;CN=Wattführer Johann:mailto:wattwandern@gmx.de
SEQUENCE:0
SUMMARY:Rückwanderung von Baltrum nach Neßmersiel - mit Wattführer Johann
UID:e_100565711_iv9
URL:http://pages.destination.one/de/dornum/streaming/detail/Event/e_1005657
 11/r-ckwanderung-von-baltrum-nach-ne-mersiel-mit-wattf-hrer-johann
END:VEVENT
BEGIN:VEVENT
CATEGORIES:Wattwanderung
CATEGORIES:... zu Fuß
CATEGORIES:Familien/Kinder sonstige
DESCRIPTION:\n\nmehr Informationen unter http://pages.destination.one/de/do
 rnum/streaming/detail/Event/e_100565711/r-ckwanderung-von-baltrum-nach-ne-
 mersiel-mit-wattf-hrer-johann
DTEND;TZID=Europe/Berlin:20240704T235900
DTSTAMP:20260423T104358Z
DTSTART;TZID=Europe/Berlin:20240704T153000
GEO:53.685614;7.359381
LOCATION:Wattführer Johann\, Strandstraße 1\, Dornum Neßmersiel
ORGANIZER;CN=Wattführer Johann:mailto:wattwandern@gmx.de
SEQUENCE:0
SUMMARY:Rückwanderung von Baltrum nach Neßmersiel - mit Wattführer Johann
UID:e_100565711_iv10
URL:http://pages.destination.one/de/dornum/streaming/detail/Event/e_1005657
 11/r-ckwanderung-von-baltrum-nach-ne-mersiel-mit-wattf-hrer-johann
END:VEVENT
BEGIN:VEVENT
CATEGORIES:Wattwanderung
CATEGORIES:... zu Fuß
CATEGORIES:Familien/Kinder sonstige
DESCRIPTION:\n\nmehr Informationen unter http://pages.destination.one/de/do
 rnum/streaming/detail/Event/e_100565711/r-ckwanderung-von-baltrum-nach-ne-
 mersiel-mit-wattf-hrer-johann
DTEND;TZID=Europe/Berlin:20240720T235900
DTSTAMP:20260423T104358Z
DTSTART;TZID=Europe/Berlin:20240720T161500
GEO:53.685614;7.359381
LOCATION:Wattführer Johann\, Strandstraße 1\, Dornum Neßmersiel
ORGANIZER;CN=Wattführer Johann:mailto:wattwandern@gmx.de
SEQUENCE:0
SUMMARY:Rückwanderung von Baltrum nach Neßmersiel - mit Wattführer Johann
UID:e_100565711_iv11
URL:http://pages.destination.one/de/dornum/streaming/detail/Event/e_1005657
 11/r-ckwanderung-von-baltrum-nach-ne-mersiel-mit-wattf-hrer-johann
END:VEVENT
BEGIN:VEVENT
CATEGORIES:Wattwanderung
CATEGORIES:... zu Fuß
CATEGORIES:Familien/Kinder sonstige
DESCRIPTION:\n\nmehr Informationen unter http://pages.destination.one/de/do
 rnum/streaming/detail/Event/e_100565711/r-ckwanderung-von-baltrum-nach-ne-
 mersiel-mit-wattf-hrer-johann
DTEND;TZID=Europe/Berlin:20240802T235900
DTSTAMP:20260423T104358Z
DTSTART;TZID=Europe/Berlin:20240802T153000
GEO:53.685614;7.359381
LOCATION:Wattführer Johann\, Strandstraße 1\, Dornum Neßmersiel
ORGANIZER;CN=Wattführer Johann:mailto:wattwandern@gmx.de
SEQUENCE:0
SUMMARY:Rückwanderung von Baltrum nach Neßmersiel - mit Wattführer Johann
UID:e_100565711_iv12
URL:http://pages.destination.one/de/dornum/streaming/detail/Event/e_1005657
 11/r-ckwanderung-von-baltrum-nach-ne-mersiel-mit-wattf-hrer-johann
END:VEVENT
BEGIN:VEVENT
CATEGORIES:Wattwanderung
CATEGORIES:... zu Fuß
CATEGORIES:Familien/Kinder sonstige
DESCRIPTION:\n\nmehr Informationen unter http://pages.destination.one/de/do
 rnum/streaming/detail/Event/e_100565711/r-ckwanderung-von-baltrum-nach-ne-
 mersiel-mit-wattf-hrer-johann
DTEND;TZID=Europe/Berlin:20240804T235900
DTSTAMP:20260423T104358Z
DTSTART;TZID=Europe/Berlin:20240804T170000
GEO:53.685614;7.359381
LOCATION:Wattführer Johann\, Strandstraße 1\, Dornum Neßmersiel
ORGANIZER;CN=Wattführer Johann:mailto:wattwandern@gmx.de
SEQUENCE:0
SUMMARY:Rückwanderung von Baltrum nach Neßmersiel - mit Wattführer Johann
UID:e_100565711_iv13
URL:http://pages.destination.one/de/dornum/streaming/detail/Event/e_1005657
 11/r-ckwanderung-von-baltrum-nach-ne-mersiel-mit-wattf-hrer-johann
END:VEVENT
BEGIN:VEVENT
CATEGORIES:Wattwanderung
CATEGORIES:... zu Fuß
CATEGORIES:Familien/Kinder sonstige
DESCRIPTION:\n\nmehr Informationen unter http://pages.destination.one/de/do
 rnum/streaming/detail/Event/e_100565711/r-ckwanderung-von-baltrum-nach-ne-
 mersiel-mit-wattf-hrer-johann
DTEND;TZID=Europe/Berlin:20240818T235900
DTSTAMP:20260423T104358Z
DTSTART;TZID=Europe/Berlin:20240818T154500
GEO:53.685614;7.359381
LOCATION:Wattführer Johann\, Strandstraße 1\, Dornum Neßmersiel
ORGANIZER;CN=Wattführer Johann:mailto:wattwandern@gmx.de
SEQUENCE:0
SUMMARY:Rückwanderung von Baltrum nach Neßmersiel - mit Wattführer Johann
UID:e_100565711_iv14
URL:http://pages.destination.one/de/dornum/streaming/detail/Event/e_1005657
 11/r-ckwanderung-von-baltrum-nach-ne-mersiel-mit-wattf-hrer-johann
END:VEVENT
BEGIN:VEVENT
CATEGORIES:Wattwanderung
CATEGORIES:... zu Fuß
CATEGORIES:Familien/Kinder sonstige
DESCRIPTION:\n\nmehr Informationen unter http://pages.destination.one/de/do
 rnum/streaming/detail/Event/e_100565711/r-ckwanderung-von-baltrum-nach-ne-
 mersiel-mit-wattf-hrer-johann
DTEND;TZID=Europe/Berlin:20240831T235900
DTSTAMP:20260423T104358Z
DTSTART;TZID=Europe/Berlin:20240831T151500
GEO:53.685614;7.359381
LOCATION:Wattführer Johann\, Strandstraße 1\, Dornum Neßmersiel
ORGANIZER;CN=Wattführer Johann:mailto:wattwandern@gmx.de
SEQUENCE:0
SUMMARY:Rückwanderung von Baltrum nach Neßmersiel - mit Wattführer Johann
UID:e_100565711_iv15
URL:http://pages.destination.one/de/dornum/streaming/detail/Event/e_1005657
 11/r-ckwanderung-von-baltrum-nach-ne-mersiel-mit-wattf-hrer-johann
END:VEVENT
BEGIN:VEVENT
CATEGORIES:Wattwanderung
CATEGORIES:... zu Fuß
CATEGORIES:Familien/Kinder sonstige
DESCRIPTION:\n\nmehr Informationen unter http://pages.destination.one/de/do
 rnum/streaming/detail/Event/e_100565711/r-ckwanderung-von-baltrum-nach-ne-
 mersiel-mit-wattf-hrer-johann
DTEND;TZID=Europe/Berlin:20250525T235900
DTSTAMP:20260423T104358Z
DTSTART;TZID=Europe/Berlin:20250525T150000
GEO:53.685614;7.359381
LOCATION:Wattführer Johann\, Strandstraße 1\, Dornum Neßmersiel
ORGANIZER;CN=Wattführer Johann:mailto:wattwandern@gmx.de
SEQUENCE:0
SUMMARY:Rückwanderung von Baltrum nach Neßmersiel - mit Wattführer Johann
UID:e_100565711_iv16
URL:http://pages.destination.one/de/dornum/streaming/detail/Event/e_1005657
 11/r-ckwanderung-von-baltrum-nach-ne-mersiel-mit-wattf-hrer-johann
END:VEVENT
BEGIN:VEVENT
CATEGORIES:Wattwanderung
CATEGORIES:... zu Fuß
CATEGORIES:Familien/Kinder sonstige
DESCRIPTION:\n\nmehr Informationen unter http://pages.destination.one/de/do
 rnum/streaming/detail/Event/e_100565711/r-ckwanderung-von-baltrum-nach-ne-
 mersiel-mit-wattf-hrer-johann
DTEND;TZID=Europe/Berlin:20250609T235900
DTSTAMP:20260423T104358Z
DTSTART;TZID=Europe/Berlin:20250609T153000
GEO:53.685614;7.359381
LOCATION:Wattführer Johann\, Strandstraße 1\, Dornum Neßmersiel
ORGANIZER;CN=Wattführer Johann:mailto:wattwandern@gmx.de
SEQUENCE:0
SUMMARY:Rückwanderung von Baltrum nach Neßmersiel - mit Wattführer Johann
UID:e_100565711_iv17
URL:http://pages.destination.one/de/dornum/streaming/detail/Event/e_1005657
 11/r-ckwanderung-von-baltrum-nach-ne-mersiel-mit-wattf-hrer-johann
END:VEVENT
BEGIN:VEVENT
CATEGORIES:Wattwanderung
CATEGORIES:... zu Fuß
CATEGORIES:Familien/Kinder sonstige
DESCRIPTION:\n\nmehr Informationen unter http://pages.destination.one/de/do
 rnum/streaming/detail/Event/e_100565711/r-ckwanderung-von-baltrum-nach-ne-
 mersiel-mit-wattf-hrer-johann
DTEND;TZID=Europe/Berlin:20250624T235900
DTSTAMP:20260423T104358Z
DTSTART;TZID=Europe/Berlin:20250624T153000
GEO:53.685614;7.359381
LOCATION:Wattführer Johann\, Strandstraße 1\, Dornum Neßmersiel
ORGANIZER;CN=Wattführer Johann:mailto:wattwandern@gmx.de
SEQUENCE:0
SUMMARY:Rückwanderung von Baltrum nach Neßmersiel - mit Wattführer Johann
UID:e_100565711_iv18
URL:http://pages.destination.one/de/dornum/streaming/detail/Event/e_1005657
 11/r-ckwanderung-von-baltrum-nach-ne-mersiel-mit-wattf-hrer-johann
END:VEVENT
BEGIN:VEVENT
CATEGORIES:Wattwanderung
CATEGORIES:... zu Fuß
CATEGORIES:Familien/Kinder sonstige
DESCRIPTION:\n\nmehr Informationen unter http://pages.destination.one/de/do
 rnum/streaming/detail/Event/e_100565711/r-ckwanderung-von-baltrum-nach-ne-
 mersiel-mit-wattf-hrer-johann
DTEND;TZID=Europe/Berlin:20250708T235900
DTSTAMP:20260423T104358Z
DTSTART;TZID=Europe/Berlin:20250708T153000
GEO:53.685614;7.359381
LOCATION:Wattführer Johann\, Strandstraße 1\, Dornum Neßmersiel
ORGANIZER;CN=Wattführer Johann:mailto:wattwandern@gmx.de
SEQUENCE:0
SUMMARY:Rückwanderung von Baltrum nach Neßmersiel - mit Wattführer Johann
UID:e_100565711_iv19
URL:http://pages.destination.one/de/dornum/streaming/detail/Event/e_1005657
 11/r-ckwanderung-von-baltrum-nach-ne-mersiel-mit-wattf-hrer-johann
END:VEVENT
BEGIN:VEVENT
CATEGORIES:Wattwanderung
CATEGORIES:... zu Fuß
CATEGORIES:Familien/Kinder sonstige
DESCRIPTION:\n\nmehr Informationen unter http://pages.destination.one/de/do
 rnum/streaming/detail/Event/e_100565711/r-ckwanderung-von-baltrum-nach-ne-
 mersiel-mit-wattf-hrer-johann
DTEND;TZID=Europe/Berlin:20250723T235900
DTSTAMP:20260423T104358Z
DTSTART;TZID=Europe/Berlin:20250723T153000
GEO:53.685614;7.359381
LOCATION:Wattführer Johann\, Strandstraße 1\, Dornum Neßmersiel
ORGANIZER;CN=Wattführer Johann:mailto:wattwandern@gmx.de
SEQUENCE:0
SUMMARY:Rückwanderung von Baltrum nach Neßmersiel - mit Wattführer Johann
UID:e_100565711_iv20
URL:http://pages.destination.one/de/dornum/streaming/detail/Event/e_1005657
 11/r-ckwanderung-von-baltrum-nach-ne-mersiel-mit-wattf-hrer-johann
END:VEVENT
BEGIN:VEVENT
CATEGORIES:Wattwanderung
CATEGORIES:... zu Fuß
CATEGORIES:Familien/Kinder sonstige
DESCRIPTION:\n\nmehr Informationen unter http://pages.destination.one/de/do
 rnum/streaming/detail/Event/e_100565711/r-ckwanderung-von-baltrum-nach-ne-
 mersiel-mit-wattf-hrer-johann
DTEND;TZID=Europe/Berlin:20250807T235900
DTSTAMP:20260423T104358Z
DTSTART;TZID=Europe/Berlin:20250807T153000
GEO:53.685614;7.359381
LOCATION:Wattführer Johann\, Strandstraße 1\, Dornum Neßmersiel
ORGANIZER;CN=Wattführer Johann:mailto:wattwandern@gmx.de
SEQUENCE:0
SUMMARY:Rückwanderung von Baltrum nach Neßmersiel - mit Wattführer Johann
UID:e_100565711_iv21
URL:http://pages.destination.one/de/dornum/streaming/detail/Event/e_1005657
 11/r-ckwanderung-von-baltrum-nach-ne-mersiel-mit-wattf-hrer-johann
END:VEVENT
BEGIN:VEVENT
CATEGORIES:Wattwanderung
CATEGORIES:... zu Fuß
CATEGORIES:Familien/Kinder sonstige
DESCRIPTION:\n\nmehr Informationen unter http://pages.destination.one/de/do
 rnum/streaming/detail/Event/e_100565711/r-ckwanderung-von-baltrum-nach-ne-
 mersiel-mit-wattf-hrer-johann
DTEND;TZID=Europe/Berlin:20250821T235900
DTSTAMP:20260423T104358Z
DTSTART;TZID=Europe/Berlin:20250821T153000
GEO:53.685614;7.359381
LOCATION:Wattführer Johann\, Strandstraße 1\, Dornum Neßmersiel
ORGANIZER;CN=Wattführer Johann:mailto:wattwandern@gmx.de
SEQUENCE:0
SUMMARY:Rückwanderung von Baltrum nach Neßmersiel - mit Wattführer Johann
UID:e_100565711_iv22
URL:http://pages.destination.one/de/dornum/streaming/detail/Event/e_1005657
 11/r-ckwanderung-von-baltrum-nach-ne-mersiel-mit-wattf-hrer-johann
END:VEVENT
BEGIN:VEVENT
CATEGORIES:Wattwanderung
CATEGORIES:... zu Fuß
CATEGORIES:Familien/Kinder sonstige
DESCRIPTION:\n\nmehr Informationen unter http://pages.destination.one/de/do
 rnum/streaming/detail/Event/e_100565711/r-ckwanderung-von-baltrum-nach-ne-
 mersiel-mit-wattf-hrer-johann
DTEND;TZID=Europe/Berlin:20250906T235900
DTSTAMP:20260423T104358Z
DTSTART;TZID=Europe/Berlin:20250906T160000
GEO:53.685614;7.359381
LOCATION:Wattführer Johann\, Strandstraße 1\, Dornum Neßmersiel
ORGANIZER;CN=Wattführer Johann:mailto:wattwandern@gmx.de
SEQUENCE:0
SUMMARY:Rückwanderung von Baltrum nach Neßmersiel - mit Wattführer Johann
UID:e_100565711_iv23
URL:http://pages.destination.one/de/dornum/streaming/detail/Event/e_1005657
 11/r-ckwanderung-von-baltrum-nach-ne-mersiel-mit-wattf-hrer-johann
END:VEVENT
BEGIN:VEVENT
CATEGORIES:Wattwanderung
CATEGORIES:... zu Fuß
CATEGORIES:Familien/Kinder sonstige
DESCRIPTION:\n\nmehr Informationen unter http://pages.destination.one/de/do
 rnum/streaming/detail/Event/e_100565711/r-ckwanderung-von-baltrum-nach-ne-
 mersiel-mit-wattf-hrer-johann
DTEND;TZID=Europe/Berlin:20260514T235900
DTSTAMP:20260423T104358Z
DTSTART;TZID=Europe/Berlin:20260514T103000
GEO:53.685614;7.359381
LOCATION:Wattführer Johann\, Strandstraße 1\, Dornum Neßmersiel
ORGANIZER;CN=Wattführer Johann:mailto:wattwandern@gmx.de
SEQUENCE:0
SUMMARY:Rückwanderung von Baltrum nach Neßmersiel - mit Wattführer Johann
UID:e_100565711_iv24
URL:http://pages.destination.one/de/dornum/streaming/detail/Event/e_1005657
 11/r-ckwanderung-von-baltrum-nach-ne-mersiel-mit-wattf-hrer-johann
END:VEVENT
BEGIN:VTIMEZONE
TZID:Europe/Berlin
X-LIC-LOCATION:Europe/Berlin
BEGIN:DAYLIGHT
DTSTART:19700329T020000
RRULE:FREQ=YEARLY;BYDAY=-1SU;BYMONTH=3
TZNAME:CEST
TZOFFSETFROM:+0100
TZOFFSETTO:+0200
END:DAYLIGHT
BEGIN:STANDARD
DTSTART:19701025T030000
RRULE:FREQ=YEARLY;BYDAY=-1SU;BYMONTH=10
TZNAME:CET
TZOFFSETFROM:+0200
TZOFFSETTO:+0100
END:STANDARD
END:VTIMEZONE
END:VCALENDAR
