BEGIN:VCALENDAR
VERSION:2.0
PRODID:-//destination.one//NONSGML destination.meta API//DE
X-WR-CALDESC:A calendar powered by destination.meta
X-WR-CALNAME:dornum Kalender via destination.meta
BEGIN:VEVENT
CATEGORIES:Wattwanderung
CATEGORIES:... zu Fuß
CATEGORIES:Familien/Kinder sonstige
DESCRIPTION:\n\nmehr Informationen unter http://pages.destination.one/de/do
 rnum/streaming/detail/Event/e_100565717/wattwanderung-zur-insel-norderney-
 mit-wattf-hrer-johann
DTEND;TZID=Europe/Berlin:20230513T235900
DTSTAMP:20260423T103831Z
DTSTART;TZID=Europe/Berlin:20230513T093000
GEO:53.685614;7.359381
LOCATION:Wattführer Johann\, Strandstraße 1\, Dornum Neßmersiel
ORGANIZER;CN=Wattführer Johann:mailto:wattwandern@gmx.de
SEQUENCE:0
SUMMARY:Wattwanderung zur Insel Norderney - mit Wattführer Johann
UID:e_100565717_iv0
URL:http://pages.destination.one/de/dornum/streaming/detail/Event/e_1005657
 17/wattwanderung-zur-insel-norderney-mit-wattf-hrer-johann
END:VEVENT
BEGIN:VEVENT
CATEGORIES:Wattwanderung
CATEGORIES:... zu Fuß
CATEGORIES:Familien/Kinder sonstige
DESCRIPTION:\n\nmehr Informationen unter http://pages.destination.one/de/do
 rnum/streaming/detail/Event/e_100565717/wattwanderung-zur-insel-norderney-
 mit-wattf-hrer-johann
DTEND;TZID=Europe/Berlin:20230527T235900
DTSTAMP:20260423T103831Z
DTSTART;TZID=Europe/Berlin:20230527T083000
GEO:53.685614;7.359381
LOCATION:Wattführer Johann\, Strandstraße 1\, Dornum Neßmersiel
ORGANIZER;CN=Wattführer Johann:mailto:wattwandern@gmx.de
SEQUENCE:0
SUMMARY:Wattwanderung zur Insel Norderney - mit Wattführer Johann
UID:e_100565717_iv1
URL:http://pages.destination.one/de/dornum/streaming/detail/Event/e_1005657
 17/wattwanderung-zur-insel-norderney-mit-wattf-hrer-johann
END:VEVENT
BEGIN:VEVENT
CATEGORIES:Wattwanderung
CATEGORIES:... zu Fuß
CATEGORIES:Familien/Kinder sonstige
DESCRIPTION:\n\nmehr Informationen unter http://pages.destination.one/de/do
 rnum/streaming/detail/Event/e_100565717/wattwanderung-zur-insel-norderney-
 mit-wattf-hrer-johann
DTEND;TZID=Europe/Berlin:20230610T235900
DTSTAMP:20260423T103831Z
DTSTART;TZID=Europe/Berlin:20230610T083000
GEO:53.685614;7.359381
LOCATION:Wattführer Johann\, Strandstraße 1\, Dornum Neßmersiel
ORGANIZER;CN=Wattführer Johann:mailto:wattwandern@gmx.de
SEQUENCE:0
SUMMARY:Wattwanderung zur Insel Norderney - mit Wattführer Johann
UID:e_100565717_iv2
URL:http://pages.destination.one/de/dornum/streaming/detail/Event/e_1005657
 17/wattwanderung-zur-insel-norderney-mit-wattf-hrer-johann
END:VEVENT
BEGIN:VEVENT
CATEGORIES:Wattwanderung
CATEGORIES:... zu Fuß
CATEGORIES:Familien/Kinder sonstige
DESCRIPTION:\n\nmehr Informationen unter http://pages.destination.one/de/do
 rnum/streaming/detail/Event/e_100565717/wattwanderung-zur-insel-norderney-
 mit-wattf-hrer-johann
DTEND;TZID=Europe/Berlin:20230625T235900
DTSTAMP:20260423T103831Z
DTSTART;TZID=Europe/Berlin:20230625T080000
GEO:53.685614;7.359381
LOCATION:Wattführer Johann\, Strandstraße 1\, Dornum Neßmersiel
ORGANIZER;CN=Wattführer Johann:mailto:wattwandern@gmx.de
SEQUENCE:0
SUMMARY:Wattwanderung zur Insel Norderney - mit Wattführer Johann
UID:e_100565717_iv3
URL:http://pages.destination.one/de/dornum/streaming/detail/Event/e_1005657
 17/wattwanderung-zur-insel-norderney-mit-wattf-hrer-johann
END:VEVENT
BEGIN:VEVENT
CATEGORIES:Wattwanderung
CATEGORIES:... zu Fuß
CATEGORIES:Familien/Kinder sonstige
DESCRIPTION:\n\nmehr Informationen unter http://pages.destination.one/de/do
 rnum/streaming/detail/Event/e_100565717/wattwanderung-zur-insel-norderney-
 mit-wattf-hrer-johann
DTEND;TZID=Europe/Berlin:20230708T235900
DTSTAMP:20260423T103831Z
DTSTART;TZID=Europe/Berlin:20230708T073000
GEO:53.685614;7.359381
LOCATION:Wattführer Johann\, Strandstraße 1\, Dornum Neßmersiel
ORGANIZER;CN=Wattführer Johann:mailto:wattwandern@gmx.de
SEQUENCE:0
SUMMARY:Wattwanderung zur Insel Norderney - mit Wattführer Johann
UID:e_100565717_iv4
URL:http://pages.destination.one/de/dornum/streaming/detail/Event/e_1005657
 17/wattwanderung-zur-insel-norderney-mit-wattf-hrer-johann
END:VEVENT
BEGIN:VEVENT
CATEGORIES:Wattwanderung
CATEGORIES:... zu Fuß
CATEGORIES:Familien/Kinder sonstige
DESCRIPTION:\n\nmehr Informationen unter http://pages.destination.one/de/do
 rnum/streaming/detail/Event/e_100565717/wattwanderung-zur-insel-norderney-
 mit-wattf-hrer-johann
DTEND;TZID=Europe/Berlin:20230710T235900
DTSTAMP:20260423T103831Z
DTSTART;TZID=Europe/Berlin:20230710T090000
GEO:53.685614;7.359381
LOCATION:Wattführer Johann\, Strandstraße 1\, Dornum Neßmersiel
ORGANIZER;CN=Wattführer Johann:mailto:wattwandern@gmx.de
SEQUENCE:0
SUMMARY:Wattwanderung zur Insel Norderney - mit Wattführer Johann
UID:e_100565717_iv5
URL:http://pages.destination.one/de/dornum/streaming/detail/Event/e_1005657
 17/wattwanderung-zur-insel-norderney-mit-wattf-hrer-johann
END:VEVENT
BEGIN:VEVENT
CATEGORIES:Wattwanderung
CATEGORIES:... zu Fuß
CATEGORIES:Familien/Kinder sonstige
DESCRIPTION:\n\nmehr Informationen unter http://pages.destination.one/de/do
 rnum/streaming/detail/Event/e_100565717/wattwanderung-zur-insel-norderney-
 mit-wattf-hrer-johann
DTEND;TZID=Europe/Berlin:20230724T235900
DTSTAMP:20260423T103831Z
DTSTART;TZID=Europe/Berlin:20230724T074500
GEO:53.685614;7.359381
LOCATION:Wattführer Johann\, Strandstraße 1\, Dornum Neßmersiel
ORGANIZER;CN=Wattführer Johann:mailto:wattwandern@gmx.de
SEQUENCE:0
SUMMARY:Wattwanderung zur Insel Norderney - mit Wattführer Johann
UID:e_100565717_iv6
URL:http://pages.destination.one/de/dornum/streaming/detail/Event/e_1005657
 17/wattwanderung-zur-insel-norderney-mit-wattf-hrer-johann
END:VEVENT
BEGIN:VEVENT
CATEGORIES:Wattwanderung
CATEGORIES:... zu Fuß
CATEGORIES:Familien/Kinder sonstige
DESCRIPTION:\n\nmehr Informationen unter http://pages.destination.one/de/do
 rnum/streaming/detail/Event/e_100565717/wattwanderung-zur-insel-norderney-
 mit-wattf-hrer-johann
DTEND;TZID=Europe/Berlin:20230726T235900
DTSTAMP:20260423T103831Z
DTSTART;TZID=Europe/Berlin:20230726T084500
GEO:53.685614;7.359381
LOCATION:Wattführer Johann\, Strandstraße 1\, Dornum Neßmersiel
ORGANIZER;CN=Wattführer Johann:mailto:wattwandern@gmx.de
SEQUENCE:0
SUMMARY:Wattwanderung zur Insel Norderney - mit Wattführer Johann
UID:e_100565717_iv7
URL:http://pages.destination.one/de/dornum/streaming/detail/Event/e_1005657
 17/wattwanderung-zur-insel-norderney-mit-wattf-hrer-johann
END:VEVENT
BEGIN:VEVENT
CATEGORIES:Wattwanderung
CATEGORIES:... zu Fuß
CATEGORIES:Familien/Kinder sonstige
DESCRIPTION:\n\nmehr Informationen unter http://pages.destination.one/de/do
 rnum/streaming/detail/Event/e_100565717/wattwanderung-zur-insel-norderney-
 mit-wattf-hrer-johann
DTEND;TZID=Europe/Berlin:20230806T235900
DTSTAMP:20260423T103831Z
DTSTART;TZID=Europe/Berlin:20230806T071500
GEO:53.685614;7.359381
LOCATION:Wattführer Johann\, Strandstraße 1\, Dornum Neßmersiel
ORGANIZER;CN=Wattführer Johann:mailto:wattwandern@gmx.de
SEQUENCE:0
SUMMARY:Wattwanderung zur Insel Norderney - mit Wattführer Johann
UID:e_100565717_iv8
URL:http://pages.destination.one/de/dornum/streaming/detail/Event/e_1005657
 17/wattwanderung-zur-insel-norderney-mit-wattf-hrer-johann
END:VEVENT
BEGIN:VEVENT
CATEGORIES:Wattwanderung
CATEGORIES:... zu Fuß
CATEGORIES:Familien/Kinder sonstige
DESCRIPTION:\n\nmehr Informationen unter http://pages.destination.one/de/do
 rnum/streaming/detail/Event/e_100565717/wattwanderung-zur-insel-norderney-
 mit-wattf-hrer-johann
DTEND;TZID=Europe/Berlin:20230808T235900
DTSTAMP:20260423T103831Z
DTSTART;TZID=Europe/Berlin:20230808T083000
GEO:53.685614;7.359381
LOCATION:Wattführer Johann\, Strandstraße 1\, Dornum Neßmersiel
ORGANIZER;CN=Wattführer Johann:mailto:wattwandern@gmx.de
SEQUENCE:0
SUMMARY:Wattwanderung zur Insel Norderney - mit Wattführer Johann
UID:e_100565717_iv9
URL:http://pages.destination.one/de/dornum/streaming/detail/Event/e_1005657
 17/wattwanderung-zur-insel-norderney-mit-wattf-hrer-johann
END:VEVENT
BEGIN:VEVENT
CATEGORIES:Wattwanderung
CATEGORIES:... zu Fuß
CATEGORIES:Familien/Kinder sonstige
DESCRIPTION:\n\nmehr Informationen unter http://pages.destination.one/de/do
 rnum/streaming/detail/Event/e_100565717/wattwanderung-zur-insel-norderney-
 mit-wattf-hrer-johann
DTEND;TZID=Europe/Berlin:20230823T235900
DTSTAMP:20260423T103831Z
DTSTART;TZID=Europe/Berlin:20230823T074500
GEO:53.685614;7.359381
LOCATION:Wattführer Johann\, Strandstraße 1\, Dornum Neßmersiel
ORGANIZER;CN=Wattführer Johann:mailto:wattwandern@gmx.de
SEQUENCE:0
SUMMARY:Wattwanderung zur Insel Norderney - mit Wattführer Johann
UID:e_100565717_iv10
URL:http://pages.destination.one/de/dornum/streaming/detail/Event/e_1005657
 17/wattwanderung-zur-insel-norderney-mit-wattf-hrer-johann
END:VEVENT
BEGIN:VEVENT
CATEGORIES:Wattwanderung
CATEGORIES:... zu Fuß
CATEGORIES:Familien/Kinder sonstige
DESCRIPTION:\n\nmehr Informationen unter http://pages.destination.one/de/do
 rnum/streaming/detail/Event/e_100565717/wattwanderung-zur-insel-norderney-
 mit-wattf-hrer-johann
DTEND;TZID=Europe/Berlin:20230906T235900
DTSTAMP:20260423T103831Z
DTSTART;TZID=Europe/Berlin:20230906T080000
GEO:53.685614;7.359381
LOCATION:Wattführer Johann\, Strandstraße 1\, Dornum Neßmersiel
ORGANIZER;CN=Wattführer Johann:mailto:wattwandern@gmx.de
SEQUENCE:0
SUMMARY:Wattwanderung zur Insel Norderney - mit Wattführer Johann
UID:e_100565717_iv11
URL:http://pages.destination.one/de/dornum/streaming/detail/Event/e_1005657
 17/wattwanderung-zur-insel-norderney-mit-wattf-hrer-johann
END:VEVENT
BEGIN:VEVENT
CATEGORIES:Wattwanderung
CATEGORIES:... zu Fuß
CATEGORIES:Familien/Kinder sonstige
DESCRIPTION:\n\nmehr Informationen unter http://pages.destination.one/de/do
 rnum/streaming/detail/Event/e_100565717/wattwanderung-zur-insel-norderney-
 mit-wattf-hrer-johann
DTEND;TZID=Europe/Berlin:20240515T235900
DTSTAMP:20260423T103831Z
DTSTART;TZID=Europe/Berlin:20240515T083000
GEO:53.685614;7.359381
LOCATION:Wattführer Johann\, Strandstraße 1\, Dornum Neßmersiel
ORGANIZER;CN=Wattführer Johann:mailto:wattwandern@gmx.de
SEQUENCE:0
SUMMARY:Wattwanderung zur Insel Norderney - mit Wattführer Johann
UID:e_100565717_iv12
URL:http://pages.destination.one/de/dornum/streaming/detail/Event/e_1005657
 17/wattwanderung-zur-insel-norderney-mit-wattf-hrer-johann
END:VEVENT
BEGIN:VEVENT
CATEGORIES:Wattwanderung
CATEGORIES:... zu Fuß
CATEGORIES:Familien/Kinder sonstige
DESCRIPTION:\n\nmehr Informationen unter http://pages.destination.one/de/do
 rnum/streaming/detail/Event/e_100565717/wattwanderung-zur-insel-norderney-
 mit-wattf-hrer-johann
DTEND;TZID=Europe/Berlin:20240531T235900
DTSTAMP:20260423T103831Z
DTSTART;TZID=Europe/Berlin:20240531T091500
GEO:53.685614;7.359381
LOCATION:Wattführer Johann\, Strandstraße 1\, Dornum Neßmersiel
ORGANIZER;CN=Wattführer Johann:mailto:wattwandern@gmx.de
SEQUENCE:0
SUMMARY:Wattwanderung zur Insel Norderney - mit Wattführer Johann
UID:e_100565717_iv13
URL:http://pages.destination.one/de/dornum/streaming/detail/Event/e_1005657
 17/wattwanderung-zur-insel-norderney-mit-wattf-hrer-johann
END:VEVENT
BEGIN:VEVENT
CATEGORIES:Wattwanderung
CATEGORIES:... zu Fuß
CATEGORIES:Familien/Kinder sonstige
DESCRIPTION:\n\nmehr Informationen unter http://pages.destination.one/de/do
 rnum/streaming/detail/Event/e_100565717/wattwanderung-zur-insel-norderney-
 mit-wattf-hrer-johann
DTEND;TZID=Europe/Berlin:20240615T235900
DTSTAMP:20260423T103831Z
DTSTART;TZID=Europe/Berlin:20240615T093000
GEO:53.685614;7.359381
LOCATION:Wattführer Johann\, Strandstraße 1\, Dornum Neßmersiel
ORGANIZER;CN=Wattführer Johann:mailto:wattwandern@gmx.de
SEQUENCE:0
SUMMARY:Wattwanderung zur Insel Norderney - mit Wattführer Johann
UID:e_100565717_iv14
URL:http://pages.destination.one/de/dornum/streaming/detail/Event/e_1005657
 17/wattwanderung-zur-insel-norderney-mit-wattf-hrer-johann
END:VEVENT
BEGIN:VEVENT
CATEGORIES:Wattwanderung
CATEGORIES:... zu Fuß
CATEGORIES:Familien/Kinder sonstige
DESCRIPTION:\n\nmehr Informationen unter http://pages.destination.one/de/do
 rnum/streaming/detail/Event/e_100565717/wattwanderung-zur-insel-norderney-
 mit-wattf-hrer-johann
DTEND;TZID=Europe/Berlin:20240713T235900
DTSTAMP:20260423T103831Z
DTSTART;TZID=Europe/Berlin:20240713T081500
GEO:53.685614;7.359381
LOCATION:Wattführer Johann\, Strandstraße 1\, Dornum Neßmersiel
ORGANIZER;CN=Wattführer Johann:mailto:wattwandern@gmx.de
SEQUENCE:0
SUMMARY:Wattwanderung zur Insel Norderney - mit Wattführer Johann
UID:e_100565717_iv15
URL:http://pages.destination.one/de/dornum/streaming/detail/Event/e_1005657
 17/wattwanderung-zur-insel-norderney-mit-wattf-hrer-johann
END:VEVENT
BEGIN:VEVENT
CATEGORIES:Wattwanderung
CATEGORIES:... zu Fuß
CATEGORIES:Familien/Kinder sonstige
DESCRIPTION:\n\nmehr Informationen unter http://pages.destination.one/de/do
 rnum/streaming/detail/Event/e_100565717/wattwanderung-zur-insel-norderney-
 mit-wattf-hrer-johann
DTEND;TZID=Europe/Berlin:20240727T235900
DTSTAMP:20260423T103831Z
DTSTART;TZID=Europe/Berlin:20240727T080000
GEO:53.685614;7.359381
LOCATION:Wattführer Johann\, Strandstraße 1\, Dornum Neßmersiel
ORGANIZER;CN=Wattführer Johann:mailto:wattwandern@gmx.de
SEQUENCE:0
SUMMARY:Wattwanderung zur Insel Norderney - mit Wattführer Johann
UID:e_100565717_iv16
URL:http://pages.destination.one/de/dornum/streaming/detail/Event/e_1005657
 17/wattwanderung-zur-insel-norderney-mit-wattf-hrer-johann
END:VEVENT
BEGIN:VEVENT
CATEGORIES:Wattwanderung
CATEGORIES:... zu Fuß
CATEGORIES:Familien/Kinder sonstige
DESCRIPTION:\n\nmehr Informationen unter http://pages.destination.one/de/do
 rnum/streaming/detail/Event/e_100565717/wattwanderung-zur-insel-norderney-
 mit-wattf-hrer-johann
DTEND;TZID=Europe/Berlin:20240813T235900
DTSTAMP:20260423T103831Z
DTSTART;TZID=Europe/Berlin:20240813T083000
GEO:53.685614;7.359381
LOCATION:Wattführer Johann\, Strandstraße 1\, Dornum Neßmersiel
ORGANIZER;CN=Wattführer Johann:mailto:wattwandern@gmx.de
SEQUENCE:0
SUMMARY:Wattwanderung zur Insel Norderney - mit Wattführer Johann
UID:e_100565717_iv17
URL:http://pages.destination.one/de/dornum/streaming/detail/Event/e_1005657
 17/wattwanderung-zur-insel-norderney-mit-wattf-hrer-johann
END:VEVENT
BEGIN:VEVENT
CATEGORIES:Wattwanderung
CATEGORIES:... zu Fuß
CATEGORIES:Familien/Kinder sonstige
DESCRIPTION:\n\nmehr Informationen unter http://pages.destination.one/de/do
 rnum/streaming/detail/Event/e_100565717/wattwanderung-zur-insel-norderney-
 mit-wattf-hrer-johann
DTEND;TZID=Europe/Berlin:20240825T235900
DTSTAMP:20260423T103831Z
DTSTART;TZID=Europe/Berlin:20240825T074500
GEO:53.685614;7.359381
LOCATION:Wattführer Johann\, Strandstraße 1\, Dornum Neßmersiel
ORGANIZER;CN=Wattführer Johann:mailto:wattwandern@gmx.de
SEQUENCE:0
SUMMARY:Wattwanderung zur Insel Norderney - mit Wattführer Johann
UID:e_100565717_iv18
URL:http://pages.destination.one/de/dornum/streaming/detail/Event/e_1005657
 17/wattwanderung-zur-insel-norderney-mit-wattf-hrer-johann
END:VEVENT
BEGIN:VEVENT
CATEGORIES:Wattwanderung
CATEGORIES:... zu Fuß
CATEGORIES:Familien/Kinder sonstige
DESCRIPTION:\n\nmehr Informationen unter http://pages.destination.one/de/do
 rnum/streaming/detail/Event/e_100565717/wattwanderung-zur-insel-norderney-
 mit-wattf-hrer-johann
DTEND;TZID=Europe/Berlin:20250504T151500
DTSTAMP:20260423T103831Z
DTSTART;TZID=Europe/Berlin:20250504T081500
GEO:53.685614;7.359381
LOCATION:Wattführer Johann\, Strandstraße 1\, Dornum Neßmersiel
ORGANIZER;CN=Wattführer Johann:mailto:wattwandern@gmx.de
SEQUENCE:0
SUMMARY:Wattwanderung zur Insel Norderney - mit Wattführer Johann
UID:e_100565717_iv19
URL:http://pages.destination.one/de/dornum/streaming/detail/Event/e_1005657
 17/wattwanderung-zur-insel-norderney-mit-wattf-hrer-johann
END:VEVENT
BEGIN:VEVENT
CATEGORIES:Wattwanderung
CATEGORIES:... zu Fuß
CATEGORIES:Familien/Kinder sonstige
DESCRIPTION:\n\nmehr Informationen unter http://pages.destination.one/de/do
 rnum/streaming/detail/Event/e_100565717/wattwanderung-zur-insel-norderney-
 mit-wattf-hrer-johann
DTEND;TZID=Europe/Berlin:20250520T151500
DTSTAMP:20260423T103831Z
DTSTART;TZID=Europe/Berlin:20250520T081500
GEO:53.685614;7.359381
LOCATION:Wattführer Johann\, Strandstraße 1\, Dornum Neßmersiel
ORGANIZER;CN=Wattführer Johann:mailto:wattwandern@gmx.de
SEQUENCE:0
SUMMARY:Wattwanderung zur Insel Norderney - mit Wattführer Johann
UID:e_100565717_iv20
URL:http://pages.destination.one/de/dornum/streaming/detail/Event/e_1005657
 17/wattwanderung-zur-insel-norderney-mit-wattf-hrer-johann
END:VEVENT
BEGIN:VEVENT
CATEGORIES:Wattwanderung
CATEGORIES:... zu Fuß
CATEGORIES:Familien/Kinder sonstige
DESCRIPTION:\n\nmehr Informationen unter http://pages.destination.one/de/do
 rnum/streaming/detail/Event/e_100565717/wattwanderung-zur-insel-norderney-
 mit-wattf-hrer-johann
DTEND;TZID=Europe/Berlin:20250601T151500
DTSTAMP:20260423T103831Z
DTSTART;TZID=Europe/Berlin:20250601T071500
GEO:53.685614;7.359381
LOCATION:Wattführer Johann\, Strandstraße 1\, Dornum Neßmersiel
ORGANIZER;CN=Wattführer Johann:mailto:wattwandern@gmx.de
SEQUENCE:0
SUMMARY:Wattwanderung zur Insel Norderney - mit Wattführer Johann
UID:e_100565717_iv21
URL:http://pages.destination.one/de/dornum/streaming/detail/Event/e_1005657
 17/wattwanderung-zur-insel-norderney-mit-wattf-hrer-johann
END:VEVENT
BEGIN:VEVENT
CATEGORIES:Wattwanderung
CATEGORIES:... zu Fuß
CATEGORIES:Familien/Kinder sonstige
DESCRIPTION:\n\nmehr Informationen unter http://pages.destination.one/de/do
 rnum/streaming/detail/Event/e_100565717/wattwanderung-zur-insel-norderney-
 mit-wattf-hrer-johann
DTEND;TZID=Europe/Berlin:20250617T151500
DTSTAMP:20260423T103831Z
DTSTART;TZID=Europe/Berlin:20250617T071500
GEO:53.685614;7.359381
LOCATION:Wattführer Johann\, Strandstraße 1\, Dornum Neßmersiel
ORGANIZER;CN=Wattführer Johann:mailto:wattwandern@gmx.de
SEQUENCE:0
SUMMARY:Wattwanderung zur Insel Norderney - mit Wattführer Johann
UID:e_100565717_iv22
URL:http://pages.destination.one/de/dornum/streaming/detail/Event/e_1005657
 17/wattwanderung-zur-insel-norderney-mit-wattf-hrer-johann
END:VEVENT
BEGIN:VEVENT
CATEGORIES:Wattwanderung
CATEGORIES:... zu Fuß
CATEGORIES:Familien/Kinder sonstige
DESCRIPTION:\n\nmehr Informationen unter http://pages.destination.one/de/do
 rnum/streaming/detail/Event/e_100565717/wattwanderung-zur-insel-norderney-
 mit-wattf-hrer-johann
DTEND;TZID=Europe/Berlin:20250702T151500
DTSTAMP:20260423T103831Z
DTSTART;TZID=Europe/Berlin:20250702T081500
GEO:53.685614;7.359381
LOCATION:Wattführer Johann\, Strandstraße 1\, Dornum Neßmersiel
ORGANIZER;CN=Wattführer Johann:mailto:wattwandern@gmx.de
SEQUENCE:0
SUMMARY:Wattwanderung zur Insel Norderney - mit Wattführer Johann
UID:e_100565717_iv23
URL:http://pages.destination.one/de/dornum/streaming/detail/Event/e_1005657
 17/wattwanderung-zur-insel-norderney-mit-wattf-hrer-johann
END:VEVENT
BEGIN:VEVENT
CATEGORIES:Wattwanderung
CATEGORIES:... zu Fuß
CATEGORIES:Familien/Kinder sonstige
DESCRIPTION:\n\nmehr Informationen unter http://pages.destination.one/de/do
 rnum/streaming/detail/Event/e_100565717/wattwanderung-zur-insel-norderney-
 mit-wattf-hrer-johann
DTEND;TZID=Europe/Berlin:20250716T151500
DTSTAMP:20260423T103831Z
DTSTART;TZID=Europe/Berlin:20250716T073000
GEO:53.685614;7.359381
LOCATION:Wattführer Johann\, Strandstraße 1\, Dornum Neßmersiel
ORGANIZER;CN=Wattführer Johann:mailto:wattwandern@gmx.de
SEQUENCE:0
SUMMARY:Wattwanderung zur Insel Norderney - mit Wattführer Johann
UID:e_100565717_iv24
URL:http://pages.destination.one/de/dornum/streaming/detail/Event/e_1005657
 17/wattwanderung-zur-insel-norderney-mit-wattf-hrer-johann
END:VEVENT
BEGIN:VEVENT
CATEGORIES:Wattwanderung
CATEGORIES:... zu Fuß
CATEGORIES:Familien/Kinder sonstige
DESCRIPTION:\n\nmehr Informationen unter http://pages.destination.one/de/do
 rnum/streaming/detail/Event/e_100565717/wattwanderung-zur-insel-norderney-
 mit-wattf-hrer-johann
DTEND;TZID=Europe/Berlin:20250730T151500
DTSTAMP:20260423T103831Z
DTSTART;TZID=Europe/Berlin:20250730T073000
GEO:53.685614;7.359381
LOCATION:Wattführer Johann\, Strandstraße 1\, Dornum Neßmersiel
ORGANIZER;CN=Wattführer Johann:mailto:wattwandern@gmx.de
SEQUENCE:0
SUMMARY:Wattwanderung zur Insel Norderney - mit Wattführer Johann
UID:e_100565717_iv25
URL:http://pages.destination.one/de/dornum/streaming/detail/Event/e_1005657
 17/wattwanderung-zur-insel-norderney-mit-wattf-hrer-johann
END:VEVENT
BEGIN:VEVENT
CATEGORIES:Wattwanderung
CATEGORIES:... zu Fuß
CATEGORIES:Familien/Kinder sonstige
DESCRIPTION:\n\nmehr Informationen unter http://pages.destination.one/de/do
 rnum/streaming/detail/Event/e_100565717/wattwanderung-zur-insel-norderney-
 mit-wattf-hrer-johann
DTEND;TZID=Europe/Berlin:20250816T151500
DTSTAMP:20260423T103831Z
DTSTART;TZID=Europe/Berlin:20250816T081500
GEO:53.685614;7.359381
LOCATION:Wattführer Johann\, Strandstraße 1\, Dornum Neßmersiel
ORGANIZER;CN=Wattführer Johann:mailto:wattwandern@gmx.de
SEQUENCE:0
SUMMARY:Wattwanderung zur Insel Norderney - mit Wattführer Johann
UID:e_100565717_iv26
URL:http://pages.destination.one/de/dornum/streaming/detail/Event/e_1005657
 17/wattwanderung-zur-insel-norderney-mit-wattf-hrer-johann
END:VEVENT
BEGIN:VEVENT
CATEGORIES:Wattwanderung
CATEGORIES:... zu Fuß
CATEGORIES:Familien/Kinder sonstige
DESCRIPTION:\n\nmehr Informationen unter http://pages.destination.one/de/do
 rnum/streaming/detail/Event/e_100565717/wattwanderung-zur-insel-norderney-
 mit-wattf-hrer-johann
DTEND;TZID=Europe/Berlin:20250831T151500
DTSTAMP:20260423T103831Z
DTSTART;TZID=Europe/Berlin:20250831T074500
GEO:53.685614;7.359381
LOCATION:Wattführer Johann\, Strandstraße 1\, Dornum Neßmersiel
ORGANIZER;CN=Wattführer Johann:mailto:wattwandern@gmx.de
SEQUENCE:0
SUMMARY:Wattwanderung zur Insel Norderney - mit Wattführer Johann
UID:e_100565717_iv27
URL:http://pages.destination.one/de/dornum/streaming/detail/Event/e_1005657
 17/wattwanderung-zur-insel-norderney-mit-wattf-hrer-johann
END:VEVENT
BEGIN:VEVENT
CATEGORIES:Wattwanderung
CATEGORIES:... zu Fuß
CATEGORIES:Familien/Kinder sonstige
DESCRIPTION:\n\nmehr Informationen unter http://pages.destination.one/de/do
 rnum/streaming/detail/Event/e_100565717/wattwanderung-zur-insel-norderney-
 mit-wattf-hrer-johann
DTEND;TZID=Europe/Berlin:20250914T151500
DTSTAMP:20260423T103831Z
DTSTART;TZID=Europe/Berlin:20250914T081500
GEO:53.685614;7.359381
LOCATION:Wattführer Johann\, Strandstraße 1\, Dornum Neßmersiel
ORGANIZER;CN=Wattführer Johann:mailto:wattwandern@gmx.de
SEQUENCE:0
SUMMARY:Wattwanderung zur Insel Norderney - mit Wattführer Johann
UID:e_100565717_iv28
URL:http://pages.destination.one/de/dornum/streaming/detail/Event/e_1005657
 17/wattwanderung-zur-insel-norderney-mit-wattf-hrer-johann
END:VEVENT
BEGIN:VEVENT
CATEGORIES:Wattwanderung
CATEGORIES:... zu Fuß
CATEGORIES:Familien/Kinder sonstige
DESCRIPTION:\n\nmehr Informationen unter http://pages.destination.one/de/do
 rnum/streaming/detail/Event/e_100565717/wattwanderung-zur-insel-norderney-
 mit-wattf-hrer-johann
DTEND;TZID=Europe/Berlin:20260509T235900
DTSTAMP:20260423T103831Z
DTSTART;TZID=Europe/Berlin:20260509T080000
GEO:53.685614;7.359381
LOCATION:Wattführer Johann\, Strandstraße 1\, Dornum Neßmersiel
ORGANIZER;CN=Wattführer Johann:mailto:wattwandern@gmx.de
SEQUENCE:0
SUMMARY:Wattwanderung zur Insel Norderney - mit Wattführer Johann
UID:e_100565717_iv29
URL:http://pages.destination.one/de/dornum/streaming/detail/Event/e_1005657
 17/wattwanderung-zur-insel-norderney-mit-wattf-hrer-johann
END:VEVENT
BEGIN:VEVENT
CATEGORIES:Wattwanderung
CATEGORIES:... zu Fuß
CATEGORIES:Familien/Kinder sonstige
DESCRIPTION:\n\nmehr Informationen unter http://pages.destination.one/de/do
 rnum/streaming/detail/Event/e_100565717/wattwanderung-zur-insel-norderney-
 mit-wattf-hrer-johann
DTEND;TZID=Europe/Berlin:20260606T235900
DTSTAMP:20260423T103831Z
DTSTART;TZID=Europe/Berlin:20260606T073000
GEO:53.685614;7.359381
LOCATION:Wattführer Johann\, Strandstraße 1\, Dornum Neßmersiel
ORGANIZER;CN=Wattführer Johann:mailto:wattwandern@gmx.de
SEQUENCE:0
SUMMARY:Wattwanderung zur Insel Norderney - mit Wattführer Johann
UID:e_100565717_iv30
URL:http://pages.destination.one/de/dornum/streaming/detail/Event/e_1005657
 17/wattwanderung-zur-insel-norderney-mit-wattf-hrer-johann
END:VEVENT
BEGIN:VEVENT
CATEGORIES:Wattwanderung
CATEGORIES:... zu Fuß
CATEGORIES:Familien/Kinder sonstige
DESCRIPTION:\n\nmehr Informationen unter http://pages.destination.one/de/do
 rnum/streaming/detail/Event/e_100565717/wattwanderung-zur-insel-norderney-
 mit-wattf-hrer-johann
DTEND;TZID=Europe/Berlin:20260621T235900
DTSTAMP:20260423T103831Z
DTSTART;TZID=Europe/Berlin:20260621T080000
GEO:53.685614;7.359381
LOCATION:Wattführer Johann\, Strandstraße 1\, Dornum Neßmersiel
ORGANIZER;CN=Wattführer Johann:mailto:wattwandern@gmx.de
SEQUENCE:0
SUMMARY:Wattwanderung zur Insel Norderney - mit Wattführer Johann
UID:e_100565717_iv31
URL:http://pages.destination.one/de/dornum/streaming/detail/Event/e_1005657
 17/wattwanderung-zur-insel-norderney-mit-wattf-hrer-johann
END:VEVENT
BEGIN:VEVENT
CATEGORIES:Wattwanderung
CATEGORIES:... zu Fuß
CATEGORIES:Familien/Kinder sonstige
DESCRIPTION:\n\nmehr Informationen unter http://pages.destination.one/de/do
 rnum/streaming/detail/Event/e_100565717/wattwanderung-zur-insel-norderney-
 mit-wattf-hrer-johann
DTEND;TZID=Europe/Berlin:20260707T235900
DTSTAMP:20260423T103831Z
DTSTART;TZID=Europe/Berlin:20260707T080000
GEO:53.685614;7.359381
LOCATION:Wattführer Johann\, Strandstraße 1\, Dornum Neßmersiel
ORGANIZER;CN=Wattführer Johann:mailto:wattwandern@gmx.de
SEQUENCE:0
SUMMARY:Wattwanderung zur Insel Norderney - mit Wattführer Johann
UID:e_100565717_iv32
URL:http://pages.destination.one/de/dornum/streaming/detail/Event/e_1005657
 17/wattwanderung-zur-insel-norderney-mit-wattf-hrer-johann
END:VEVENT
BEGIN:VEVENT
CATEGORIES:Wattwanderung
CATEGORIES:... zu Fuß
CATEGORIES:Familien/Kinder sonstige
DESCRIPTION:\n\nmehr Informationen unter http://pages.destination.one/de/do
 rnum/streaming/detail/Event/e_100565717/wattwanderung-zur-insel-norderney-
 mit-wattf-hrer-johann
DTEND;TZID=Europe/Berlin:20260721T235900
DTSTAMP:20260423T103831Z
DTSTART;TZID=Europe/Berlin:20260721T081500
GEO:53.685614;7.359381
LOCATION:Wattführer Johann\, Strandstraße 1\, Dornum Neßmersiel
ORGANIZER;CN=Wattführer Johann:mailto:wattwandern@gmx.de
SEQUENCE:0
SUMMARY:Wattwanderung zur Insel Norderney - mit Wattführer Johann
UID:e_100565717_iv33
URL:http://pages.destination.one/de/dornum/streaming/detail/Event/e_1005657
 17/wattwanderung-zur-insel-norderney-mit-wattf-hrer-johann
END:VEVENT
BEGIN:VEVENT
CATEGORIES:Wattwanderung
CATEGORIES:... zu Fuß
CATEGORIES:Familien/Kinder sonstige
DESCRIPTION:\n\nmehr Informationen unter http://pages.destination.one/de/do
 rnum/streaming/detail/Event/e_100565717/wattwanderung-zur-insel-norderney-
 mit-wattf-hrer-johann
DTEND;TZID=Europe/Berlin:20260805T235900
DTSTAMP:20260423T103831Z
DTSTART;TZID=Europe/Berlin:20260805T073000
GEO:53.685614;7.359381
LOCATION:Wattführer Johann\, Strandstraße 1\, Dornum Neßmersiel
ORGANIZER;CN=Wattführer Johann:mailto:wattwandern@gmx.de
SEQUENCE:0
SUMMARY:Wattwanderung zur Insel Norderney - mit Wattführer Johann
UID:e_100565717_iv34
URL:http://pages.destination.one/de/dornum/streaming/detail/Event/e_1005657
 17/wattwanderung-zur-insel-norderney-mit-wattf-hrer-johann
END:VEVENT
BEGIN:VEVENT
CATEGORIES:Wattwanderung
CATEGORIES:... zu Fuß
CATEGORIES:Familien/Kinder sonstige
DESCRIPTION:\n\nmehr Informationen unter http://pages.destination.one/de/do
 rnum/streaming/detail/Event/e_100565717/wattwanderung-zur-insel-norderney-
 mit-wattf-hrer-johann
DTEND;TZID=Europe/Berlin:20260819T235900
DTSTAMP:20260423T103831Z
DTSTART;TZID=Europe/Berlin:20260819T073000
GEO:53.685614;7.359381
LOCATION:Wattführer Johann\, Strandstraße 1\, Dornum Neßmersiel
ORGANIZER;CN=Wattführer Johann:mailto:wattwandern@gmx.de
SEQUENCE:0
SUMMARY:Wattwanderung zur Insel Norderney - mit Wattführer Johann
UID:e_100565717_iv35
URL:http://pages.destination.one/de/dornum/streaming/detail/Event/e_1005657
 17/wattwanderung-zur-insel-norderney-mit-wattf-hrer-johann
END:VEVENT
BEGIN:VEVENT
CATEGORIES:Wattwanderung
CATEGORIES:... zu Fuß
CATEGORIES:Familien/Kinder sonstige
DESCRIPTION:\n\nmehr Informationen unter http://pages.destination.one/de/do
 rnum/streaming/detail/Event/e_100565717/wattwanderung-zur-insel-norderney-
 mit-wattf-hrer-johann
DTEND;TZID=Europe/Berlin:20260905T235900
DTSTAMP:20260423T103831Z
DTSTART;TZID=Europe/Berlin:20260905T083000
GEO:53.685614;7.359381
LOCATION:Wattführer Johann\, Strandstraße 1\, Dornum Neßmersiel
ORGANIZER;CN=Wattführer Johann:mailto:wattwandern@gmx.de
SEQUENCE:0
SUMMARY:Wattwanderung zur Insel Norderney - mit Wattführer Johann
UID:e_100565717_iv36
URL:http://pages.destination.one/de/dornum/streaming/detail/Event/e_1005657
 17/wattwanderung-zur-insel-norderney-mit-wattf-hrer-johann
END:VEVENT
BEGIN:VTIMEZONE
TZID:Europe/Berlin
X-LIC-LOCATION:Europe/Berlin
BEGIN:DAYLIGHT
DTSTART:19700329T020000
RRULE:FREQ=YEARLY;BYDAY=-1SU;BYMONTH=3
TZNAME:CEST
TZOFFSETFROM:+0100
TZOFFSETTO:+0200
END:DAYLIGHT
BEGIN:STANDARD
DTSTART:19701025T030000
RRULE:FREQ=YEARLY;BYDAY=-1SU;BYMONTH=10
TZNAME:CET
TZOFFSETFROM:+0200
TZOFFSETTO:+0100
END:STANDARD
END:VTIMEZONE
END:VCALENDAR
