BEGIN:VCALENDAR
VERSION:2.0
PRODID:-//destination.one//NONSGML destination.meta API//DE
X-WR-CALDESC:A calendar powered by destination.meta
X-WR-CALNAME:dornum Kalender via destination.meta
BEGIN:VEVENT
CATEGORIES:... zu Fuß
CATEGORIES:Wattwanderung
CATEGORIES:Familien/Kinder sonstige
DESCRIPTION:\n\nmehr Informationen unter http://pages.destination.one/de/do
 rnum/streaming/detail/Event/e_100949475/wattwanderung-zu-den-seehunden-mit
 -wattf-hrer-johann
DTEND;TZID=Europe/Berlin:20250511T190000
DTSTAMP:20260423T104531Z
DTSTART;TZID=Europe/Berlin:20250511T160000
GEO:53.685614;7.359381
LOCATION:Wattführer Johann\, Strandstraße 1\, Dornum Neßmersiel
ORGANIZER;CN=Wattführer Johann:mailto:wattwandern@gmx.de
SEQUENCE:0
SUMMARY:Wattwanderung zu den Seehunden - mit Wattführer Johann
UID:e_100949475_iv0
URL:http://pages.destination.one/de/dornum/streaming/detail/Event/e_1009494
 75/wattwanderung-zu-den-seehunden-mit-wattf-hrer-johann
END:VEVENT
BEGIN:VEVENT
CATEGORIES:... zu Fuß
CATEGORIES:Wattwanderung
CATEGORIES:Familien/Kinder sonstige
DESCRIPTION:\n\nmehr Informationen unter http://pages.destination.one/de/do
 rnum/streaming/detail/Event/e_100949475/wattwanderung-zu-den-seehunden-mit
 -wattf-hrer-johann
DTEND;TZID=Europe/Berlin:20250610T191500
DTSTAMP:20260423T104531Z
DTSTART;TZID=Europe/Berlin:20250610T161500
GEO:53.685614;7.359381
LOCATION:Wattführer Johann\, Strandstraße 1\, Dornum Neßmersiel
ORGANIZER;CN=Wattführer Johann:mailto:wattwandern@gmx.de
SEQUENCE:0
SUMMARY:Wattwanderung zu den Seehunden - mit Wattführer Johann
UID:e_100949475_iv1
URL:http://pages.destination.one/de/dornum/streaming/detail/Event/e_1009494
 75/wattwanderung-zu-den-seehunden-mit-wattf-hrer-johann
END:VEVENT
BEGIN:VEVENT
CATEGORIES:... zu Fuß
CATEGORIES:Wattwanderung
CATEGORIES:Familien/Kinder sonstige
DESCRIPTION:\n\nmehr Informationen unter http://pages.destination.one/de/do
 rnum/streaming/detail/Event/e_100949475/wattwanderung-zu-den-seehunden-mit
 -wattf-hrer-johann
DTEND;TZID=Europe/Berlin:20250625T193000
DTSTAMP:20260423T104531Z
DTSTART;TZID=Europe/Berlin:20250625T163000
GEO:53.685614;7.359381
LOCATION:Wattführer Johann\, Strandstraße 1\, Dornum Neßmersiel
ORGANIZER;CN=Wattführer Johann:mailto:wattwandern@gmx.de
SEQUENCE:0
SUMMARY:Wattwanderung zu den Seehunden - mit Wattführer Johann
UID:e_100949475_iv2
URL:http://pages.destination.one/de/dornum/streaming/detail/Event/e_1009494
 75/wattwanderung-zu-den-seehunden-mit-wattf-hrer-johann
END:VEVENT
BEGIN:VEVENT
CATEGORIES:... zu Fuß
CATEGORIES:Wattwanderung
CATEGORIES:Familien/Kinder sonstige
DESCRIPTION:\n\nmehr Informationen unter http://pages.destination.one/de/do
 rnum/streaming/detail/Event/e_100949475/wattwanderung-zu-den-seehunden-mit
 -wattf-hrer-johann
DTEND;TZID=Europe/Berlin:20250709T190000
DTSTAMP:20260423T104531Z
DTSTART;TZID=Europe/Berlin:20250709T160000
GEO:53.685614;7.359381
LOCATION:Wattführer Johann\, Strandstraße 1\, Dornum Neßmersiel
ORGANIZER;CN=Wattführer Johann:mailto:wattwandern@gmx.de
SEQUENCE:0
SUMMARY:Wattwanderung zu den Seehunden - mit Wattführer Johann
UID:e_100949475_iv3
URL:http://pages.destination.one/de/dornum/streaming/detail/Event/e_1009494
 75/wattwanderung-zu-den-seehunden-mit-wattf-hrer-johann
END:VEVENT
BEGIN:VEVENT
CATEGORIES:... zu Fuß
CATEGORIES:Wattwanderung
CATEGORIES:Familien/Kinder sonstige
DESCRIPTION:\n\nmehr Informationen unter http://pages.destination.one/de/do
 rnum/streaming/detail/Event/e_100949475/wattwanderung-zu-den-seehunden-mit
 -wattf-hrer-johann
DTEND;TZID=Europe/Berlin:20250724T193000
DTSTAMP:20260423T104531Z
DTSTART;TZID=Europe/Berlin:20250724T163000
GEO:53.685614;7.359381
LOCATION:Wattführer Johann\, Strandstraße 1\, Dornum Neßmersiel
ORGANIZER;CN=Wattführer Johann:mailto:wattwandern@gmx.de
SEQUENCE:0
SUMMARY:Wattwanderung zu den Seehunden - mit Wattführer Johann
UID:e_100949475_iv4
URL:http://pages.destination.one/de/dornum/streaming/detail/Event/e_1009494
 75/wattwanderung-zu-den-seehunden-mit-wattf-hrer-johann
END:VEVENT
BEGIN:VEVENT
CATEGORIES:... zu Fuß
CATEGORIES:Wattwanderung
CATEGORIES:Familien/Kinder sonstige
DESCRIPTION:\n\nmehr Informationen unter http://pages.destination.one/de/do
 rnum/streaming/detail/Event/e_100949475/wattwanderung-zu-den-seehunden-mit
 -wattf-hrer-johann
DTEND;TZID=Europe/Berlin:20250808T190000
DTSTAMP:20260423T104531Z
DTSTART;TZID=Europe/Berlin:20250808T160000
GEO:53.685614;7.359381
LOCATION:Wattführer Johann\, Strandstraße 1\, Dornum Neßmersiel
ORGANIZER;CN=Wattführer Johann:mailto:wattwandern@gmx.de
SEQUENCE:0
SUMMARY:Wattwanderung zu den Seehunden - mit Wattführer Johann
UID:e_100949475_iv5
URL:http://pages.destination.one/de/dornum/streaming/detail/Event/e_1009494
 75/wattwanderung-zu-den-seehunden-mit-wattf-hrer-johann
END:VEVENT
BEGIN:VEVENT
CATEGORIES:... zu Fuß
CATEGORIES:Wattwanderung
CATEGORIES:Familien/Kinder sonstige
DESCRIPTION:\n\nmehr Informationen unter http://pages.destination.one/de/do
 rnum/streaming/detail/Event/e_100949475/wattwanderung-zu-den-seehunden-mit
 -wattf-hrer-johann
DTEND;TZID=Europe/Berlin:20250822T193000
DTSTAMP:20260423T104531Z
DTSTART;TZID=Europe/Berlin:20250822T163000
GEO:53.685614;7.359381
LOCATION:Wattführer Johann\, Strandstraße 1\, Dornum Neßmersiel
ORGANIZER;CN=Wattführer Johann:mailto:wattwandern@gmx.de
SEQUENCE:0
SUMMARY:Wattwanderung zu den Seehunden - mit Wattführer Johann
UID:e_100949475_iv6
URL:http://pages.destination.one/de/dornum/streaming/detail/Event/e_1009494
 75/wattwanderung-zu-den-seehunden-mit-wattf-hrer-johann
END:VEVENT
BEGIN:VEVENT
CATEGORIES:... zu Fuß
CATEGORIES:Wattwanderung
CATEGORIES:Familien/Kinder sonstige
DESCRIPTION:\n\nmehr Informationen unter http://pages.destination.one/de/do
 rnum/streaming/detail/Event/e_100949475/wattwanderung-zu-den-seehunden-mit
 -wattf-hrer-johann
DTEND;TZID=Europe/Berlin:20250907T193000
DTSTAMP:20260423T104531Z
DTSTART;TZID=Europe/Berlin:20250907T163000
GEO:53.685614;7.359381
LOCATION:Wattführer Johann\, Strandstraße 1\, Dornum Neßmersiel
ORGANIZER;CN=Wattführer Johann:mailto:wattwandern@gmx.de
SEQUENCE:0
SUMMARY:Wattwanderung zu den Seehunden - mit Wattführer Johann
UID:e_100949475_iv7
URL:http://pages.destination.one/de/dornum/streaming/detail/Event/e_1009494
 75/wattwanderung-zu-den-seehunden-mit-wattf-hrer-johann
END:VEVENT
BEGIN:VEVENT
CATEGORIES:... zu Fuß
CATEGORIES:Wattwanderung
CATEGORIES:Familien/Kinder sonstige
DESCRIPTION:\n\nmehr Informationen unter http://pages.destination.one/de/do
 rnum/streaming/detail/Event/e_100949475/wattwanderung-zu-den-seehunden-mit
 -wattf-hrer-johann
DTEND;TZID=Europe/Berlin:20260411T235900
DTSTAMP:20260423T104531Z
DTSTART;TZID=Europe/Berlin:20260411T103000
GEO:53.685614;7.359381
LOCATION:Wattführer Johann\, Strandstraße 1\, Dornum Neßmersiel
ORGANIZER;CN=Wattführer Johann:mailto:wattwandern@gmx.de
SEQUENCE:0
SUMMARY:Wattwanderung zu den Seehunden - mit Wattführer Johann
UID:e_100949475_iv8
URL:http://pages.destination.one/de/dornum/streaming/detail/Event/e_1009494
 75/wattwanderung-zu-den-seehunden-mit-wattf-hrer-johann
END:VEVENT
BEGIN:VEVENT
CATEGORIES:... zu Fuß
CATEGORIES:Wattwanderung
CATEGORIES:Familien/Kinder sonstige
DESCRIPTION:\n\nmehr Informationen unter http://pages.destination.one/de/do
 rnum/streaming/detail/Event/e_100949475/wattwanderung-zu-den-seehunden-mit
 -wattf-hrer-johann
DTEND;TZID=Europe/Berlin:20260428T235900
DTSTAMP:20260423T104531Z
DTSTART;TZID=Europe/Berlin:20260428T144500
GEO:53.685614;7.359381
LOCATION:Wattführer Johann\, Strandstraße 1\, Dornum Neßmersiel
ORGANIZER;CN=Wattführer Johann:mailto:wattwandern@gmx.de
SEQUENCE:0
SUMMARY:Wattwanderung zu den Seehunden - mit Wattführer Johann
UID:e_100949475_iv9
URL:http://pages.destination.one/de/dornum/streaming/detail/Event/e_1009494
 75/wattwanderung-zu-den-seehunden-mit-wattf-hrer-johann
END:VEVENT
BEGIN:VEVENT
CATEGORIES:... zu Fuß
CATEGORIES:Wattwanderung
CATEGORIES:Familien/Kinder sonstige
DESCRIPTION:\n\nmehr Informationen unter http://pages.destination.one/de/do
 rnum/streaming/detail/Event/e_100949475/wattwanderung-zu-den-seehunden-mit
 -wattf-hrer-johann
DTEND;TZID=Europe/Berlin:20260515T235900
DTSTAMP:20260423T104531Z
DTSTART;TZID=Europe/Berlin:20260515T160000
GEO:53.685614;7.359381
LOCATION:Wattführer Johann\, Strandstraße 1\, Dornum Neßmersiel
ORGANIZER;CN=Wattführer Johann:mailto:wattwandern@gmx.de
SEQUENCE:0
SUMMARY:Wattwanderung zu den Seehunden - mit Wattführer Johann
UID:e_100949475_iv10
URL:http://pages.destination.one/de/dornum/streaming/detail/Event/e_1009494
 75/wattwanderung-zu-den-seehunden-mit-wattf-hrer-johann
END:VEVENT
BEGIN:VEVENT
CATEGORIES:... zu Fuß
CATEGORIES:Wattwanderung
CATEGORIES:Familien/Kinder sonstige
DESCRIPTION:\n\nmehr Informationen unter http://pages.destination.one/de/do
 rnum/streaming/detail/Event/e_100949475/wattwanderung-zu-den-seehunden-mit
 -wattf-hrer-johann
DTEND;TZID=Europe/Berlin:20260516T235900
DTSTAMP:20260423T104531Z
DTSTART;TZID=Europe/Berlin:20260516T163000
GEO:53.685614;7.359381
LOCATION:Wattführer Johann\, Strandstraße 1\, Dornum Neßmersiel
ORGANIZER;CN=Wattführer Johann:mailto:wattwandern@gmx.de
SEQUENCE:0
SUMMARY:Wattwanderung zu den Seehunden - mit Wattführer Johann
UID:e_100949475_iv11
URL:http://pages.destination.one/de/dornum/streaming/detail/Event/e_1009494
 75/wattwanderung-zu-den-seehunden-mit-wattf-hrer-johann
END:VEVENT
BEGIN:VEVENT
CATEGORIES:... zu Fuß
CATEGORIES:Wattwanderung
CATEGORIES:Familien/Kinder sonstige
DESCRIPTION:\n\nmehr Informationen unter http://pages.destination.one/de/do
 rnum/streaming/detail/Event/e_100949475/wattwanderung-zu-den-seehunden-mit
 -wattf-hrer-johann
DTEND;TZID=Europe/Berlin:20260525T235900
DTSTAMP:20260423T104531Z
DTSTART;TZID=Europe/Berlin:20260525T113000
GEO:53.685614;7.359381
LOCATION:Wattführer Johann\, Strandstraße 1\, Dornum Neßmersiel
ORGANIZER;CN=Wattführer Johann:mailto:wattwandern@gmx.de
SEQUENCE:0
SUMMARY:Wattwanderung zu den Seehunden - mit Wattführer Johann
UID:e_100949475_iv12
URL:http://pages.destination.one/de/dornum/streaming/detail/Event/e_1009494
 75/wattwanderung-zu-den-seehunden-mit-wattf-hrer-johann
END:VEVENT
BEGIN:VEVENT
CATEGORIES:... zu Fuß
CATEGORIES:Wattwanderung
CATEGORIES:Familien/Kinder sonstige
DESCRIPTION:\n\nmehr Informationen unter http://pages.destination.one/de/do
 rnum/streaming/detail/Event/e_100949475/wattwanderung-zu-den-seehunden-mit
 -wattf-hrer-johann
DTEND;TZID=Europe/Berlin:20260529T235900
DTSTAMP:20260423T104531Z
DTSTART;TZID=Europe/Berlin:20260529T154500
GEO:53.685614;7.359381
LOCATION:Wattführer Johann\, Strandstraße 1\, Dornum Neßmersiel
ORGANIZER;CN=Wattführer Johann:mailto:wattwandern@gmx.de
SEQUENCE:0
SUMMARY:Wattwanderung zu den Seehunden - mit Wattführer Johann
UID:e_100949475_iv13
URL:http://pages.destination.one/de/dornum/streaming/detail/Event/e_1009494
 75/wattwanderung-zu-den-seehunden-mit-wattf-hrer-johann
END:VEVENT
BEGIN:VEVENT
CATEGORIES:... zu Fuß
CATEGORIES:Wattwanderung
CATEGORIES:Familien/Kinder sonstige
DESCRIPTION:\n\nmehr Informationen unter http://pages.destination.one/de/do
 rnum/streaming/detail/Event/e_100949475/wattwanderung-zu-den-seehunden-mit
 -wattf-hrer-johann
DTEND;TZID=Europe/Berlin:20260530T235900
DTSTAMP:20260423T104531Z
DTSTART;TZID=Europe/Berlin:20260530T161500
GEO:53.685614;7.359381
LOCATION:Wattführer Johann\, Strandstraße 1\, Dornum Neßmersiel
ORGANIZER;CN=Wattführer Johann:mailto:wattwandern@gmx.de
SEQUENCE:0
SUMMARY:Wattwanderung zu den Seehunden - mit Wattführer Johann
UID:e_100949475_iv14
URL:http://pages.destination.one/de/dornum/streaming/detail/Event/e_1009494
 75/wattwanderung-zu-den-seehunden-mit-wattf-hrer-johann
END:VEVENT
BEGIN:VEVENT
CATEGORIES:... zu Fuß
CATEGORIES:Wattwanderung
CATEGORIES:Familien/Kinder sonstige
DESCRIPTION:\n\nmehr Informationen unter http://pages.destination.one/de/do
 rnum/streaming/detail/Event/e_100949475/wattwanderung-zu-den-seehunden-mit
 -wattf-hrer-johann
DTEND;TZID=Europe/Berlin:20260626T235900
DTSTAMP:20260423T104531Z
DTSTART;TZID=Europe/Berlin:20260626T140000
GEO:53.685614;7.359381
LOCATION:Wattführer Johann\, Strandstraße 1\, Dornum Neßmersiel
ORGANIZER;CN=Wattführer Johann:mailto:wattwandern@gmx.de
SEQUENCE:0
SUMMARY:Wattwanderung zu den Seehunden - mit Wattführer Johann
UID:e_100949475_iv15
URL:http://pages.destination.one/de/dornum/streaming/detail/Event/e_1009494
 75/wattwanderung-zu-den-seehunden-mit-wattf-hrer-johann
END:VEVENT
BEGIN:VEVENT
CATEGORIES:... zu Fuß
CATEGORIES:Wattwanderung
CATEGORIES:Familien/Kinder sonstige
DESCRIPTION:\n\nmehr Informationen unter http://pages.destination.one/de/do
 rnum/streaming/detail/Event/e_100949475/wattwanderung-zu-den-seehunden-mit
 -wattf-hrer-johann
DTEND;TZID=Europe/Berlin:20260628T235900
DTSTAMP:20260423T104531Z
DTSTART;TZID=Europe/Berlin:20260628T161500
GEO:53.685614;7.359381
LOCATION:Wattführer Johann\, Strandstraße 1\, Dornum Neßmersiel
ORGANIZER;CN=Wattführer Johann:mailto:wattwandern@gmx.de
SEQUENCE:0
SUMMARY:Wattwanderung zu den Seehunden - mit Wattführer Johann
UID:e_100949475_iv16
URL:http://pages.destination.one/de/dornum/streaming/detail/Event/e_1009494
 75/wattwanderung-zu-den-seehunden-mit-wattf-hrer-johann
END:VEVENT
BEGIN:VEVENT
CATEGORIES:... zu Fuß
CATEGORIES:Wattwanderung
CATEGORIES:Familien/Kinder sonstige
DESCRIPTION:\n\nmehr Informationen unter http://pages.destination.one/de/do
 rnum/streaming/detail/Event/e_100949475/wattwanderung-zu-den-seehunden-mit
 -wattf-hrer-johann
DTEND;TZID=Europe/Berlin:20260713T235900
DTSTAMP:20260423T104531Z
DTSTART;TZID=Europe/Berlin:20260713T154500
GEO:53.685614;7.359381
LOCATION:Wattführer Johann\, Strandstraße 1\, Dornum Neßmersiel
ORGANIZER;CN=Wattführer Johann:mailto:wattwandern@gmx.de
SEQUENCE:0
SUMMARY:Wattwanderung zu den Seehunden - mit Wattführer Johann
UID:e_100949475_iv17
URL:http://pages.destination.one/de/dornum/streaming/detail/Event/e_1009494
 75/wattwanderung-zu-den-seehunden-mit-wattf-hrer-johann
END:VEVENT
BEGIN:VEVENT
CATEGORIES:... zu Fuß
CATEGORIES:Wattwanderung
CATEGORIES:Familien/Kinder sonstige
DESCRIPTION:\n\nmehr Informationen unter http://pages.destination.one/de/do
 rnum/streaming/detail/Event/e_100949475/wattwanderung-zu-den-seehunden-mit
 -wattf-hrer-johann
DTEND;TZID=Europe/Berlin:20260714T235900
DTSTAMP:20260423T104531Z
DTSTART;TZID=Europe/Berlin:20260714T170000
GEO:53.685614;7.359381
LOCATION:Wattführer Johann\, Strandstraße 1\, Dornum Neßmersiel
ORGANIZER;CN=Wattführer Johann:mailto:wattwandern@gmx.de
SEQUENCE:0
SUMMARY:Wattwanderung zu den Seehunden - mit Wattführer Johann
UID:e_100949475_iv18
URL:http://pages.destination.one/de/dornum/streaming/detail/Event/e_1009494
 75/wattwanderung-zu-den-seehunden-mit-wattf-hrer-johann
END:VEVENT
BEGIN:VEVENT
CATEGORIES:... zu Fuß
CATEGORIES:Wattwanderung
CATEGORIES:Familien/Kinder sonstige
DESCRIPTION:\n\nmehr Informationen unter http://pages.destination.one/de/do
 rnum/streaming/detail/Event/e_100949475/wattwanderung-zu-den-seehunden-mit
 -wattf-hrer-johann
DTEND;TZID=Europe/Berlin:20260727T235900
DTSTAMP:20260423T104531Z
DTSTART;TZID=Europe/Berlin:20260727T154500
GEO:53.685614;7.359381
LOCATION:Wattführer Johann\, Strandstraße 1\, Dornum Neßmersiel
ORGANIZER;CN=Wattführer Johann:mailto:wattwandern@gmx.de
SEQUENCE:0
SUMMARY:Wattwanderung zu den Seehunden - mit Wattführer Johann
UID:e_100949475_iv19
URL:http://pages.destination.one/de/dornum/streaming/detail/Event/e_1009494
 75/wattwanderung-zu-den-seehunden-mit-wattf-hrer-johann
END:VEVENT
BEGIN:VEVENT
CATEGORIES:... zu Fuß
CATEGORIES:Wattwanderung
CATEGORIES:Familien/Kinder sonstige
DESCRIPTION:\n\nmehr Informationen unter http://pages.destination.one/de/do
 rnum/streaming/detail/Event/e_100949475/wattwanderung-zu-den-seehunden-mit
 -wattf-hrer-johann
DTEND;TZID=Europe/Berlin:20260728T235900
DTSTAMP:20260423T104531Z
DTSTART;TZID=Europe/Berlin:20260728T161500
GEO:53.685614;7.359381
LOCATION:Wattführer Johann\, Strandstraße 1\, Dornum Neßmersiel
ORGANIZER;CN=Wattführer Johann:mailto:wattwandern@gmx.de
SEQUENCE:0
SUMMARY:Wattwanderung zu den Seehunden - mit Wattführer Johann
UID:e_100949475_iv20
URL:http://pages.destination.one/de/dornum/streaming/detail/Event/e_1009494
 75/wattwanderung-zu-den-seehunden-mit-wattf-hrer-johann
END:VEVENT
BEGIN:VEVENT
CATEGORIES:... zu Fuß
CATEGORIES:Wattwanderung
CATEGORIES:Familien/Kinder sonstige
DESCRIPTION:\n\nmehr Informationen unter http://pages.destination.one/de/do
 rnum/streaming/detail/Event/e_100949475/wattwanderung-zu-den-seehunden-mit
 -wattf-hrer-johann
DTEND;TZID=Europe/Berlin:20260811T235900
DTSTAMP:20260423T104531Z
DTSTART;TZID=Europe/Berlin:20260811T154500
GEO:53.685614;7.359381
LOCATION:Wattführer Johann\, Strandstraße 1\, Dornum Neßmersiel
ORGANIZER;CN=Wattführer Johann:mailto:wattwandern@gmx.de
SEQUENCE:0
SUMMARY:Wattwanderung zu den Seehunden - mit Wattführer Johann
UID:e_100949475_iv21
URL:http://pages.destination.one/de/dornum/streaming/detail/Event/e_1009494
 75/wattwanderung-zu-den-seehunden-mit-wattf-hrer-johann
END:VEVENT
BEGIN:VEVENT
CATEGORIES:... zu Fuß
CATEGORIES:Wattwanderung
CATEGORIES:Familien/Kinder sonstige
DESCRIPTION:\n\nmehr Informationen unter http://pages.destination.one/de/do
 rnum/streaming/detail/Event/e_100949475/wattwanderung-zu-den-seehunden-mit
 -wattf-hrer-johann
DTEND;TZID=Europe/Berlin:20260812T235900
DTSTAMP:20260423T104531Z
DTSTART;TZID=Europe/Berlin:20260812T164500
GEO:53.685614;7.359381
LOCATION:Wattführer Johann\, Strandstraße 1\, Dornum Neßmersiel
ORGANIZER;CN=Wattführer Johann:mailto:wattwandern@gmx.de
SEQUENCE:0
SUMMARY:Wattwanderung zu den Seehunden - mit Wattführer Johann
UID:e_100949475_iv22
URL:http://pages.destination.one/de/dornum/streaming/detail/Event/e_1009494
 75/wattwanderung-zu-den-seehunden-mit-wattf-hrer-johann
END:VEVENT
BEGIN:VEVENT
CATEGORIES:... zu Fuß
CATEGORIES:Wattwanderung
CATEGORIES:Familien/Kinder sonstige
DESCRIPTION:\n\nmehr Informationen unter http://pages.destination.one/de/do
 rnum/streaming/detail/Event/e_100949475/wattwanderung-zu-den-seehunden-mit
 -wattf-hrer-johann
DTEND;TZID=Europe/Berlin:20260825T235900
DTSTAMP:20260423T104531Z
DTSTART;TZID=Europe/Berlin:20260825T150000
GEO:53.685614;7.359381
LOCATION:Wattführer Johann\, Strandstraße 1\, Dornum Neßmersiel
ORGANIZER;CN=Wattführer Johann:mailto:wattwandern@gmx.de
SEQUENCE:0
SUMMARY:Wattwanderung zu den Seehunden - mit Wattführer Johann
UID:e_100949475_iv23
URL:http://pages.destination.one/de/dornum/streaming/detail/Event/e_1009494
 75/wattwanderung-zu-den-seehunden-mit-wattf-hrer-johann
END:VEVENT
BEGIN:VEVENT
CATEGORIES:... zu Fuß
CATEGORIES:Wattwanderung
CATEGORIES:Familien/Kinder sonstige
DESCRIPTION:\n\nmehr Informationen unter http://pages.destination.one/de/do
 rnum/streaming/detail/Event/e_100949475/wattwanderung-zu-den-seehunden-mit
 -wattf-hrer-johann
DTEND;TZID=Europe/Berlin:20260826T235900
DTSTAMP:20260423T104531Z
DTSTART;TZID=Europe/Berlin:20260826T161500
GEO:53.685614;7.359381
LOCATION:Wattführer Johann\, Strandstraße 1\, Dornum Neßmersiel
ORGANIZER;CN=Wattführer Johann:mailto:wattwandern@gmx.de
SEQUENCE:0
SUMMARY:Wattwanderung zu den Seehunden - mit Wattführer Johann
UID:e_100949475_iv24
URL:http://pages.destination.one/de/dornum/streaming/detail/Event/e_1009494
 75/wattwanderung-zu-den-seehunden-mit-wattf-hrer-johann
END:VEVENT
BEGIN:VEVENT
CATEGORIES:... zu Fuß
CATEGORIES:Wattwanderung
CATEGORIES:Familien/Kinder sonstige
DESCRIPTION:\n\nmehr Informationen unter http://pages.destination.one/de/do
 rnum/streaming/detail/Event/e_100949475/wattwanderung-zu-den-seehunden-mit
 -wattf-hrer-johann
DTEND;TZID=Europe/Berlin:20260908T235900
DTSTAMP:20260423T104531Z
DTSTART;TZID=Europe/Berlin:20260908T144500
GEO:53.685614;7.359381
LOCATION:Wattführer Johann\, Strandstraße 1\, Dornum Neßmersiel
ORGANIZER;CN=Wattführer Johann:mailto:wattwandern@gmx.de
SEQUENCE:0
SUMMARY:Wattwanderung zu den Seehunden - mit Wattführer Johann
UID:e_100949475_iv25
URL:http://pages.destination.one/de/dornum/streaming/detail/Event/e_1009494
 75/wattwanderung-zu-den-seehunden-mit-wattf-hrer-johann
END:VEVENT
BEGIN:VEVENT
CATEGORIES:... zu Fuß
CATEGORIES:Wattwanderung
CATEGORIES:Familien/Kinder sonstige
DESCRIPTION:\n\nmehr Informationen unter http://pages.destination.one/de/do
 rnum/streaming/detail/Event/e_100949475/wattwanderung-zu-den-seehunden-mit
 -wattf-hrer-johann
DTEND;TZID=Europe/Berlin:20260909T235900
DTSTAMP:20260423T104531Z
DTSTART;TZID=Europe/Berlin:20260909T154500
GEO:53.685614;7.359381
LOCATION:Wattführer Johann\, Strandstraße 1\, Dornum Neßmersiel
ORGANIZER;CN=Wattführer Johann:mailto:wattwandern@gmx.de
SEQUENCE:0
SUMMARY:Wattwanderung zu den Seehunden - mit Wattführer Johann
UID:e_100949475_iv26
URL:http://pages.destination.one/de/dornum/streaming/detail/Event/e_1009494
 75/wattwanderung-zu-den-seehunden-mit-wattf-hrer-johann
END:VEVENT
BEGIN:VTIMEZONE
TZID:Europe/Berlin
X-LIC-LOCATION:Europe/Berlin
BEGIN:DAYLIGHT
DTSTART:19700329T020000
RRULE:FREQ=YEARLY;BYDAY=-1SU;BYMONTH=3
TZNAME:CEST
TZOFFSETFROM:+0100
TZOFFSETTO:+0200
END:DAYLIGHT
BEGIN:STANDARD
DTSTART:19701025T030000
RRULE:FREQ=YEARLY;BYDAY=-1SU;BYMONTH=10
TZNAME:CET
TZOFFSETFROM:+0200
TZOFFSETTO:+0100
END:STANDARD
END:VTIMEZONE
END:VCALENDAR
