BEGIN:VCALENDAR
VERSION:2.0
PRODID:-//destination.one//NONSGML destination.meta API//DE
X-WR-CALDESC:A calendar powered by destination.meta
X-WR-CALNAME:dornum Kalender via destination.meta
BEGIN:VEVENT
CATEGORIES:Ferienprogramm
DESCRIPTION:\n\nmehr Informationen unter http://pages.destination.one/de/do
 rnum/streaming/detail/Event/e_101030986/kids-zone-kindertanzen-in-dornumer
 siel
DTEND;TZID=Europe/Berlin:20250411T170000
DTSTAMP:20260423T102826Z
DTSTART;TZID=Europe/Berlin:20250411T160000
GEO:53.671907;7.471243
LOCATION:Reethaus am Meer\, Hafenstraße 3\, Dornum Dornumersiel
ORGANIZER;CN=Tourismus GmbH Gemeinde Dornum:mailto:info@dornum.de
RRULE:FREQ=WEEKLY;UNTIL=20250417T150000;BYDAY=FR
SEQUENCE:0
SUMMARY:Kids Zone: Kindertanzen in Dornumersiel
UID:e_101030986_iv0
URL:http://pages.destination.one/de/dornum/streaming/detail/Event/e_1010309
 86/kids-zone-kindertanzen-in-dornumersiel
END:VEVENT
BEGIN:VEVENT
CATEGORIES:Ferienprogramm
DESCRIPTION:\n\nmehr Informationen unter http://pages.destination.one/de/do
 rnum/streaming/detail/Event/e_101030986/kids-zone-kindertanzen-in-dornumer
 siel
DTEND;TZID=Europe/Berlin:20250414T140000
DTSTAMP:20260423T102826Z
DTSTART;TZID=Europe/Berlin:20250414T130000
GEO:53.671907;7.471243
LOCATION:Reethaus am Meer\, Hafenstraße 3\, Dornum Dornumersiel
ORGANIZER;CN=Tourismus GmbH Gemeinde Dornum:mailto:info@dornum.de
SEQUENCE:0
SUMMARY:Kids Zone: Kindertanzen in Dornumersiel
UID:e_101030986_iv1
URL:http://pages.destination.one/de/dornum/streaming/detail/Event/e_1010309
 86/kids-zone-kindertanzen-in-dornumersiel
END:VEVENT
BEGIN:VEVENT
CATEGORIES:Ferienprogramm
DESCRIPTION:\n\nmehr Informationen unter http://pages.destination.one/de/do
 rnum/streaming/detail/Event/e_101030986/kids-zone-kindertanzen-in-dornumer
 siel
DTEND;TZID=Europe/Berlin:20250425T170000
DTSTAMP:20260423T102826Z
DTSTART;TZID=Europe/Berlin:20250425T160000
GEO:53.671907;7.471243
LOCATION:Reethaus am Meer\, Hafenstraße 3\, Dornum Dornumersiel
ORGANIZER;CN=Tourismus GmbH Gemeinde Dornum:mailto:info@dornum.de
SEQUENCE:0
SUMMARY:Kids Zone: Kindertanzen in Dornumersiel
UID:e_101030986_iv2
URL:http://pages.destination.one/de/dornum/streaming/detail/Event/e_1010309
 86/kids-zone-kindertanzen-in-dornumersiel
END:VEVENT
BEGIN:VEVENT
CATEGORIES:Ferienprogramm
DESCRIPTION:\n\nmehr Informationen unter http://pages.destination.one/de/do
 rnum/streaming/detail/Event/e_101030986/kids-zone-kindertanzen-in-dornumer
 siel
DTEND;TZID=Europe/Berlin:20250729T160000
DTSTAMP:20260423T102826Z
DTSTART;TZID=Europe/Berlin:20250729T153000
GEO:53.671907;7.471243
LOCATION:Reethaus am Meer\, Hafenstraße 3\, Dornum Dornumersiel
ORGANIZER;CN=Tourismus GmbH Gemeinde Dornum:mailto:info@dornum.de
RRULE:FREQ=WEEKLY;COUNT=3;BYDAY=TU
SEQUENCE:0
SUMMARY:Kids Zone: Kindertanzen in Dornumersiel
UID:e_101030986_iv3
URL:http://pages.destination.one/de/dornum/streaming/detail/Event/e_1010309
 86/kids-zone-kindertanzen-in-dornumersiel
END:VEVENT
BEGIN:VEVENT
CATEGORIES:Ferienprogramm
DESCRIPTION:\n\nmehr Informationen unter http://pages.destination.one/de/do
 rnum/streaming/detail/Event/e_101030986/kids-zone-kindertanzen-in-dornumer
 siel
DTEND;TZID=Europe/Berlin:20260323T101500
DTSTAMP:20260423T102826Z
DTSTART;TZID=Europe/Berlin:20260323T093000
GEO:53.671907;7.471243
LOCATION:Reethaus am Meer\, Hafenstraße 3\, Dornum Dornumersiel
ORGANIZER;CN=Tourismus GmbH Gemeinde Dornum:mailto:info@dornum.de
SEQUENCE:0
SUMMARY:Kids Zone: Kindertanzen in Dornumersiel
UID:e_101030986_iv4
URL:http://pages.destination.one/de/dornum/streaming/detail/Event/e_1010309
 86/kids-zone-kindertanzen-in-dornumersiel
END:VEVENT
BEGIN:VEVENT
CATEGORIES:Ferienprogramm
DESCRIPTION:\n\nmehr Informationen unter http://pages.destination.one/de/do
 rnum/streaming/detail/Event/e_101030986/kids-zone-kindertanzen-in-dornumer
 siel
DTEND;TZID=Europe/Berlin:20260330T101500
DTSTAMP:20260423T102826Z
DTSTART;TZID=Europe/Berlin:20260330T093000
GEO:53.671907;7.471243
LOCATION:Reethaus am Meer\, Hafenstraße 3\, Dornum Dornumersiel
ORGANIZER;CN=Tourismus GmbH Gemeinde Dornum:mailto:info@dornum.de
RRULE:FREQ=DAILY;UNTIL=20260330T081500
SEQUENCE:0
SUMMARY:Kids Zone: Kindertanzen in Dornumersiel
UID:e_101030986_iv5
URL:http://pages.destination.one/de/dornum/streaming/detail/Event/e_1010309
 86/kids-zone-kindertanzen-in-dornumersiel
END:VEVENT
BEGIN:VEVENT
CATEGORIES:Ferienprogramm
DESCRIPTION:\n\nmehr Informationen unter http://pages.destination.one/de/do
 rnum/streaming/detail/Event/e_101030986/kids-zone-kindertanzen-in-dornumer
 siel
DTEND;TZID=Europe/Berlin:20260720T101500
DTSTAMP:20260423T102826Z
DTSTART;TZID=Europe/Berlin:20260720T093000
GEO:53.671907;7.471243
LOCATION:Reethaus am Meer\, Hafenstraße 3\, Dornum Dornumersiel
ORGANIZER;CN=Tourismus GmbH Gemeinde Dornum:mailto:info@dornum.de
RRULE:FREQ=WEEKLY;UNTIL=20260831T081500;BYDAY=MO
SEQUENCE:0
SUMMARY:Kids Zone: Kindertanzen in Dornumersiel
UID:e_101030986_iv6
URL:http://pages.destination.one/de/dornum/streaming/detail/Event/e_1010309
 86/kids-zone-kindertanzen-in-dornumersiel
END:VEVENT
BEGIN:VEVENT
CATEGORIES:Ferienprogramm
DESCRIPTION:\n\nmehr Informationen unter http://pages.destination.one/de/do
 rnum/streaming/detail/Event/e_101030986/kids-zone-kindertanzen-in-dornumer
 siel
DTEND;TZID=Europe/Berlin:20261012T101500
DTSTAMP:20260423T102826Z
DTSTART;TZID=Europe/Berlin:20261012T093000
GEO:53.671907;7.471243
LOCATION:Reethaus am Meer\, Hafenstraße 3\, Dornum Dornumersiel
ORGANIZER;CN=Tourismus GmbH Gemeinde Dornum:mailto:info@dornum.de
RRULE:FREQ=WEEKLY;INTERVAL=2;COUNT=2;BYDAY=MO
SEQUENCE:0
SUMMARY:Kids Zone: Kindertanzen in Dornumersiel
UID:e_101030986_iv7
URL:http://pages.destination.one/de/dornum/streaming/detail/Event/e_1010309
 86/kids-zone-kindertanzen-in-dornumersiel
END:VEVENT
BEGIN:VTIMEZONE
TZID:Europe/Berlin
X-LIC-LOCATION:Europe/Berlin
BEGIN:DAYLIGHT
DTSTART:19700329T020000
RRULE:FREQ=YEARLY;BYDAY=-1SU;BYMONTH=3
TZNAME:CEST
TZOFFSETFROM:+0100
TZOFFSETTO:+0200
END:DAYLIGHT
BEGIN:STANDARD
DTSTART:19701025T030000
RRULE:FREQ=YEARLY;BYDAY=-1SU;BYMONTH=10
TZNAME:CET
TZOFFSETFROM:+0200
TZOFFSETTO:+0100
END:STANDARD
END:VTIMEZONE
END:VCALENDAR
